BEGIN:VCALENDAR
VERSION:2.0
PRODID:-//midwestchildcare.org//NONSGML kigkonsult.se iCalcreator 2.30.10//
CALSCALE:GREGORIAN
METHOD:PUBLISH
UID:8336600f-9db2-44ae-9de7-ebec7da9f04a
X-WR-CALDESC:A Camping Spree with Mr. Magee: An Interactive Preschool Class
 \nTime: Jun 13\, 2024 10:00 AM Central Time (US and Canada)\n\nJoin Zoom M
 eeting\nhttps://us02web.zoom.us/j/82520885825\n\nMeeting ID: 825 2088 5825
X-WR-RELCALID:e518903b950387395c0ac84f52cf84b2
X-WR-TIMEZONE:America/Chicago
BEGIN:VTIMEZONE
TZID:America/Chicago
BEGIN:STANDARD
TZNAME:CST
DTSTART:20231105T020000
TZOFFSETFROM:-0500
TZOFFSETTO:-0600
RDATE:20241103T020000
RDATE:20251102T020000
END:STANDARD
BEGIN:DAYLIGHT
TZNAME:CDT
DTSTART:20240310T020000
TZOFFSETFROM:-0600
TZOFFSETTO:-0500
RDATE:20250309T020000
END:DAYLIGHT
END:VTIMEZONE
BEGIN:VEVENT
UID:6824765d-a797-4ff5-bf37-f885b4f3828d
DTSTAMP:20260421T175308Z
DESCRIPTION:A Camping Spree with Mr. Magee: An Interactive Preschool Class
 \nTime: Jun 13\, 2024 10:00 AM Central Time (US and Canada)\n\nJoin Zoom M
 eeting\nhttps://us02web.zoom.us/j/82520885825\n\nMeeting ID: 825 2088 5825
DTSTART;TZID=America/Chicago:20240613T100000
DTEND;TZID=America/Chicago:20240613T110000
LOCATION:https://us02web.zoom.us/j/82520885825
SUMMARY:A Camping Spree with Mr. Magee | An Interactive Preschool Class
END:VEVENT
END:VCALENDAR
