BEGIN:VCALENDAR
VERSION:2.0
PRODID:-//midwestchildcare.org//NONSGML kigkonsult.se iCalcreator 2.30.10//
CALSCALE:GREGORIAN
METHOD:PUBLISH
UID:61132d9e-2864-48e1-8fc4-bc15055ba6ad
X-WR-CALDESC:A Camping Spree with Mr. Magee: An Interactive Preschool Class
 \nTime: Jun 13\, 2024 09:30 AM Central Time (US and Canada)\n\nJoin Zoom M
 eeting\nhttps://us02web.zoom.us/j/88319117610\n\nMeeting ID: 883 1911 7610
X-WR-RELCALID:41f53d52ae670303cc116d43d1ccdab8
X-WR-TIMEZONE:America/Chicago
BEGIN:VTIMEZONE
TZID:America/Chicago
BEGIN:STANDARD
TZNAME:CST
DTSTART:20231105T020000
TZOFFSETFROM:-0500
TZOFFSETTO:-0600
RDATE:20241103T020000
RDATE:20251102T020000
END:STANDARD
BEGIN:DAYLIGHT
TZNAME:CDT
DTSTART:20240310T020000
TZOFFSETFROM:-0600
TZOFFSETTO:-0500
RDATE:20250309T020000
END:DAYLIGHT
END:VTIMEZONE
BEGIN:VEVENT
UID:dbb57af6-51a0-4322-8f96-587f5215747c
DTSTAMP:20260421T174751Z
DESCRIPTION:A Camping Spree with Mr. Magee: An Interactive Preschool Class
 \nTime: Jun 13\, 2024 09:30 AM Central Time (US and Canada)\n\nJoin Zoom M
 eeting\nhttps://us02web.zoom.us/j/88319117610\n\nMeeting ID: 883 1911 7610
DTSTART;TZID=America/Chicago:20240613T093000
DTEND;TZID=America/Chicago:20240613T103000
LOCATION:https://us02web.zoom.us/j/88319117610
SUMMARY:A Camping Spree with Mr. Magee | An Interactive Preschool Class
END:VEVENT
END:VCALENDAR
