BEGIN:VCALENDAR
VERSION:2.0
PRODID:-//midwestchildcare.org//NONSGML kigkonsult.se iCalcreator 2.30.10//
CALSCALE:GREGORIAN
METHOD:PUBLISH
UID:5584c937-f5b0-4207-9775-b43ee6edbd53
X-WR-CALDESC:Mindfulness\, Meditation and Yoga for Children's Health | In-P
 erson Class\n\nHere is the link (although the registration is through ZOOM
 \, the class is IN-PERSON)\nYou are invited to a Zoom meeting.\nWhen: Jun 
 8\, 2024 09:00 AM -1PM\, Central Time (US and Canada)\n\nRegister in advan
 ce for this meeting:\nhttps://us02web.zoom.us/meeting/register/tZYpcOmtqT8
 uGdDgU_YInrXptFpcnZJgG8-1
X-WR-RELCALID:9713602442d9ba9ac15d14f4bb8a9eaf
X-WR-TIMEZONE:America/Chicago
BEGIN:VTIMEZONE
TZID:America/Chicago
BEGIN:STANDARD
TZNAME:CST
DTSTART:20231105T020000
TZOFFSETFROM:-0500
TZOFFSETTO:-0600
RDATE:20241103T020000
RDATE:20251102T020000
END:STANDARD
BEGIN:DAYLIGHT
TZNAME:CDT
DTSTART:20240310T020000
TZOFFSETFROM:-0600
TZOFFSETTO:-0500
RDATE:20250309T020000
END:DAYLIGHT
END:VTIMEZONE
BEGIN:VEVENT
UID:cb3b09d5-0225-403c-af75-0d2327acd2e4
DTSTAMP:20260421T174544Z
DESCRIPTION:Mindfulness\, Meditation and Yoga for Children's Health | In-Pe
 rson Class\n\nHere is the link (although the registration is through ZOOM\
 , the class is IN-PERSON)\nYou are invited to a Zoom meeting.\nWhen: Jun 8
 \, 2024 09:00 AM -1PM\, Central Time (US and Canada)\n\nRegister in advanc
 e for this meeting:\nhttps://us02web.zoom.us/meeting/register/tZYpcOmtqT8u
 GdDgU_YInrXptFpcnZJgG8-1
DTSTART;TZID=America/Chicago:20240608T090000
DTEND;TZID=America/Chicago:20240608T130000
LOCATION:https://us02web.zoom.us/meeting/register/tZYpcOmtqT8uGdDgU_YInrXpt
 FpcnZJgG8-1
SUMMARY:Mindfulness\, Meditation and Yoga for Children's Health | In-Person
  Class
END:VEVENT
END:VCALENDAR
