BEGIN:VCALENDAR
VERSION:2.0
PRODID:-//midwestchildcare.org//NONSGML kigkonsult.se iCalcreator 2.30.10//
CALSCALE:GREGORIAN
METHOD:PUBLISH
UID:62daedc4-2d22-4773-a45a-1c24a4c6e7df
X-WR-CALDESC:Emi Isn't Scared of Monsters | An Interactive Preschool Class
 \n\nYou are invited to a Zoom meeting.\nWhen: May 30\, 2024 09:30 AM Centr
 al Time (US and Canada)\n\nRegister in advance for this meeting:\nhttps://
 us02web.zoom.us/meeting/register/tZIvdOipqzIuGdKMWEmAjyP0AyYjZ6SiN6t0\n\nA
 fter registering\, you will receive a confirmation email containing inform
 ation about joining the meeting.
X-WR-RELCALID:9c9e20b870e6a55f759f407e1249184f
X-WR-TIMEZONE:America/Chicago
BEGIN:VTIMEZONE
TZID:America/Chicago
BEGIN:STANDARD
TZNAME:CST
DTSTART:20231105T020000
TZOFFSETFROM:-0500
TZOFFSETTO:-0600
RDATE:20241103T020000
RDATE:20251102T020000
END:STANDARD
BEGIN:DAYLIGHT
TZNAME:CDT
DTSTART:20240310T020000
TZOFFSETFROM:-0600
TZOFFSETTO:-0500
RDATE:20250309T020000
END:DAYLIGHT
END:VTIMEZONE
BEGIN:VEVENT
UID:f7f449dc-bf03-4d44-aad1-4b472d672a4f
DTSTAMP:20260421T201348Z
DESCRIPTION:Emi Isn't Scared of Monsters | An Interactive Preschool Class\n
 \nYou are invited to a Zoom meeting.\nWhen: May 30\, 2024 09:30 AM Central
  Time (US and Canada)\n\nRegister in advance for this meeting:\nhttps://us
 02web.zoom.us/meeting/register/tZIvdOipqzIuGdKMWEmAjyP0AyYjZ6SiN6t0\n\nAft
 er registering\, you will receive a confirmation email containing informat
 ion about joining the meeting.
DTSTART;TZID=America/Chicago:20240530T093000
DTEND;TZID=America/Chicago:20240530T103000
LOCATION:https://us02web.zoom.us/meeting/register/tZIvdOipqzIuGdKMWEmAjyP0A
 yYjZ6SiN6t0
SUMMARY:Emi Isn't Scared of Monsters | An Interactive Preschool Class
END:VEVENT
END:VCALENDAR
