BEGIN:VCALENDAR
VERSION:2.0
PRODID:-//midwestchildcare.org//NONSGML kigkonsult.se iCalcreator 2.30.10//
CALSCALE:GREGORIAN
METHOD:PUBLISH
UID:61745e75-8fde-4817-9f6b-8ae87ffeb86c
X-WR-CALDESC:You are invited to a Zoom meeting.When: May 9\, 2024 10:00 AM 
 Central Time (US and Canada)\n\nHow Do You Dance? | An Interactive Prescho
 ol Class\n\nRegister in advance for this meeting:\nhttps://us02web.zoom.us
 /meeting/register/tZYocOiqqTsoHdLf_Sbe3B2x7n9co46Ldk3D\n\nAfter registerin
 g\, you will receive a confirmation email containing information about joi
 ning the meeting.
X-WR-RELCALID:3bc83ef35707fec5940529bc4ce38dbe
X-WR-TIMEZONE:America/Chicago
BEGIN:VTIMEZONE
TZID:America/Chicago
BEGIN:STANDARD
TZNAME:CST
DTSTART:20231105T020000
TZOFFSETFROM:-0500
TZOFFSETTO:-0600
RDATE:20241103T020000
RDATE:20251102T020000
END:STANDARD
BEGIN:DAYLIGHT
TZNAME:CDT
DTSTART:20240310T020000
TZOFFSETFROM:-0600
TZOFFSETTO:-0500
RDATE:20250309T020000
END:DAYLIGHT
END:VTIMEZONE
BEGIN:VEVENT
UID:9945a443-ee48-4058-9e60-74e28bb0296e
DTSTAMP:20260421T201326Z
DESCRIPTION:You are invited to a Zoom meeting.When: May 9\, 2024 10:00 AM C
 entral Time (US and Canada)\n\nHow Do You Dance? | An Interactive Preschoo
 l Class\n\nRegister in advance for this meeting:\nhttps://us02web.zoom.us/
 meeting/register/tZYocOiqqTsoHdLf_Sbe3B2x7n9co46Ldk3D\n\nAfter registering
 \, you will receive a confirmation email containing information about join
 ing the meeting.
DTSTART;TZID=America/Chicago:20240509T100000
DTEND;TZID=America/Chicago:20240509T110000
LOCATION:https://us02web.zoom.us/meeting/register/tZYocOiqqTsoHdLf_Sbe3B2x7
 n9co46Ldk3D
SUMMARY:How Do You Dance? | An Interactive Preschool Class
END:VEVENT
END:VCALENDAR
