BEGIN:VCALENDAR
VERSION:2.0
PRODID:-//midwestchildcare.org//NONSGML kigkonsult.se iCalcreator 2.30.10//
CALSCALE:GREGORIAN
METHOD:PUBLISH
UID:3ba53e38-ef59-41d4-b3d4-ca632f4f156a
X-WR-CALDESC:Hey\, Bruce! | An Interactive Preschool Class\n\nYou are invit
 ed to a Zoom meeting.When: May 2\, 2024 10:00 AM Central Time (US and Cana
 da)\n\nRegister in advance for this meeting:\nhttps://us02web.zoom.us/meet
 ing/register/tZ0pd-6hrj8pGtz3c9pq2Jw934MUzj4VxC3e\n\nAfter registering\, y
 ou will receive a confirmation email containing information about joining 
 the meeting.
X-WR-RELCALID:f2e50df7f2236b72b5178dc216ca5064
X-WR-TIMEZONE:America/Chicago
BEGIN:VTIMEZONE
TZID:America/Chicago
BEGIN:STANDARD
TZNAME:CST
DTSTART:20231105T020000
TZOFFSETFROM:-0500
TZOFFSETTO:-0600
RDATE:20241103T020000
END:STANDARD
BEGIN:DAYLIGHT
TZNAME:CDT
DTSTART:20240310T020000
TZOFFSETFROM:-0600
TZOFFSETTO:-0500
RDATE:20250309T020000
END:DAYLIGHT
END:VTIMEZONE
BEGIN:VEVENT
UID:589add37-0d91-4393-8468-08867f680be6
DTSTAMP:20260421T194544Z
DESCRIPTION:Hey\, Bruce! | An Interactive Preschool Class\n\nYou are invite
 d to a Zoom meeting.When: May 2\, 2024 10:00 AM Central Time (US and Canad
 a)\n\nRegister in advance for this meeting:\nhttps://us02web.zoom.us/meeti
 ng/register/tZ0pd-6hrj8pGtz3c9pq2Jw934MUzj4VxC3e\n\nAfter registering\, yo
 u will receive a confirmation email containing information about joining t
 he meeting.
DTSTART;TZID=America/Chicago:20240502T100000
DTEND;TZID=America/Chicago:20240502T110000
LOCATION:https://us02web.zoom.us/meeting/register/tZ0pd-6hrj8pGtz3c9pq2Jw93
 4MUzj4VxC3e
SUMMARY:Hey\, Bruce! | An Interactive Preschool Class
END:VEVENT
END:VCALENDAR
