BEGIN:VCALENDAR
VERSION:2.0
PRODID:-//midwestchildcare.org//NONSGML kigkonsult.se iCalcreator 2.30.10//
CALSCALE:GREGORIAN
METHOD:PUBLISH
UID:899b1217-6d86-4248-9210-c8d75f47eb3f
X-WR-CALDESC:Hey\, Bruce! An Interactive Preschool Class\n\nYou are invited
  to a Zoom meeting.\nWhen: May 2\, 2024 09:30 AM Central Time (US and Cana
 da)\n\nRegister in advance for this meeting:\nhttps://us02web.zoom.us/meet
 ing/register/tZUqcOisrTgtGddujTYaAFLjo5TK8U6vM1Yd\n\nAfter registering\, y
 ou will receive a confirmation email containing information about joining 
 the meeting.
X-WR-RELCALID:d1bf20ae6d8c628cae2ba6396a8738c5
X-WR-TIMEZONE:America/Chicago
BEGIN:VTIMEZONE
TZID:America/Chicago
BEGIN:STANDARD
TZNAME:CST
DTSTART:20231105T020000
TZOFFSETFROM:-0500
TZOFFSETTO:-0600
RDATE:20241103T020000
END:STANDARD
BEGIN:DAYLIGHT
TZNAME:CDT
DTSTART:20240310T020000
TZOFFSETFROM:-0600
TZOFFSETTO:-0500
RDATE:20250309T020000
END:DAYLIGHT
END:VTIMEZONE
BEGIN:VEVENT
UID:42471475-5ae9-4a7f-85ca-b60ffc2c999e
DTSTAMP:20260421T201419Z
DESCRIPTION:Hey\, Bruce! An Interactive Preschool Class\n\nYou are invited 
 to a Zoom meeting.\nWhen: May 2\, 2024 09:30 AM Central Time (US and Canad
 a)\n\nRegister in advance for this meeting:\nhttps://us02web.zoom.us/meeti
 ng/register/tZUqcOisrTgtGddujTYaAFLjo5TK8U6vM1Yd\n\nAfter registering\, yo
 u will receive a confirmation email containing information about joining t
 he meeting.
DTSTART;TZID=America/Chicago:20240502T093000
DTEND;TZID=America/Chicago:20240502T103000
LOCATION:https://us02web.zoom.us/meeting/register/tZUqcOisrTgtGddujTYaAFLjo
 5TK8U6vM1Yd
SUMMARY:Hey\, Bruce! An Interactive Preschool Class
END:VEVENT
END:VCALENDAR
