BEGIN:VCALENDAR
VERSION:2.0
PRODID:-//midwestchildcare.org//NONSGML kigkonsult.se iCalcreator 2.30.10//
CALSCALE:GREGORIAN
METHOD:PUBLISH
UID:ba353ee5-51d7-492d-82bf-185010cfe962
X-WR-CALDESC:Hey\, Bruce! | An Interactive Preschool Class\n\nYou are invit
 ed to a Zoom meeting.\nWhen: May 2\, 2024 09:00 AM Central Time (US and Ca
 nada)\n\nRegister in advance for this meeting:\nhttps://us02web.zoom.us/me
 eting/register/tZIkf-CuqT0tH9Sb3f5YEMycSgzjJEuojXp_\n\nAfter registering\,
  you will receive a confirmation email containing information about joinin
 g the meeting.
X-WR-RELCALID:dc7f4fec58bad718a450ae8c20dad9b1
X-WR-TIMEZONE:America/Chicago
BEGIN:VTIMEZONE
TZID:America/Chicago
BEGIN:STANDARD
TZNAME:CST
DTSTART:20231105T020000
TZOFFSETFROM:-0500
TZOFFSETTO:-0600
RDATE:20241103T020000
END:STANDARD
BEGIN:DAYLIGHT
TZNAME:CDT
DTSTART:20240310T020000
TZOFFSETFROM:-0600
TZOFFSETTO:-0500
RDATE:20250309T020000
END:DAYLIGHT
END:VTIMEZONE
BEGIN:VEVENT
UID:d0c0da60-9ee0-4e88-ac4a-06ecb1c3a9d1
DTSTAMP:20260421T201223Z
DESCRIPTION:Hey\, Bruce! | An Interactive Preschool Class\n\nYou are invite
 d to a Zoom meeting.\nWhen: May 2\, 2024 09:00 AM Central Time (US and Can
 ada)\n\nRegister in advance for this meeting:\nhttps://us02web.zoom.us/mee
 ting/register/tZIkf-CuqT0tH9Sb3f5YEMycSgzjJEuojXp_\n\nAfter registering\, 
 you will receive a confirmation email containing information about joining
  the meeting.
DTSTART;TZID=America/Chicago:20240502T090000
DTEND;TZID=America/Chicago:20240502T100000
LOCATION:https://us02web.zoom.us/meeting/register/tZIkf-CuqT0tH9Sb3f5YEMycS
 gzjJEuojXp_
SUMMARY:Hey\, Bruce! | An Interactive Preschool Class
END:VEVENT
END:VCALENDAR
