BEGIN:VCALENDAR
VERSION:2.0
PRODID:-//midwestchildcare.org//NONSGML kigkonsult.se iCalcreator 2.30.10//
CALSCALE:GREGORIAN
METHOD:PUBLISH
UID:008d9786-8659-455d-bbe8-b4d2c78c0a34
X-WR-CALDESC:I say OOH\, You say AAH! | An Interactive Preschool Class\n\nY
 ou are invited to a Zoom meeting.\nWhen: Apr 11\, 2024 09:30 AM Central Ti
 me (US and Canada)\n\nRegister in advance for this meeting:\nhttps://us02w
 eb.zoom.us/meeting/register/tZwvd-igpzwrHNMjrgyAaXpnRI61gjueZMCd\n\nAfter 
 registering\, you will receive a confirmation email containing information
  about joining the meeting.
X-WR-RELCALID:03ea0331a658f5bca3ba43287fb8fd8f
X-WR-TIMEZONE:America/Chicago
BEGIN:VTIMEZONE
TZID:America/Chicago
BEGIN:STANDARD
TZNAME:CST
DTSTART:20231105T020000
TZOFFSETFROM:-0500
TZOFFSETTO:-0600
RDATE:20241103T020000
END:STANDARD
BEGIN:DAYLIGHT
TZNAME:CDT
DTSTART:20240310T020000
TZOFFSETFROM:-0600
TZOFFSETTO:-0500
RDATE:20250309T020000
END:DAYLIGHT
END:VTIMEZONE
BEGIN:VEVENT
UID:5a3c475b-b60c-45f6-8043-fa4aa40db1e8
DTSTAMP:20260421T214832Z
DESCRIPTION:I say OOH\, You say AAH! | An Interactive Preschool Class\n\nYo
 u are invited to a Zoom meeting.\nWhen: Apr 11\, 2024 09:30 AM Central Tim
 e (US and Canada)\n\nRegister in advance for this meeting:\nhttps://us02we
 b.zoom.us/meeting/register/tZwvd-igpzwrHNMjrgyAaXpnRI61gjueZMCd\n\nAfter r
 egistering\, you will receive a confirmation email containing information 
 about joining the meeting.
DTSTART;TZID=America/Chicago:20240411T093000
DTEND;TZID=America/Chicago:20240411T113000
LOCATION:https://us02web.zoom.us/meeting/register/tZwvd-igpzwrHNMjrgyAaXpnR
 I61gjueZMCd
SUMMARY:I say OOH\, You say AAH! | An Interactive Preschool Class
END:VEVENT
END:VCALENDAR
