BEGIN:VCALENDAR
VERSION:2.0
PRODID:-//midwestchildcare.org//NONSGML kigkonsult.se iCalcreator 2.30.10//
CALSCALE:GREGORIAN
METHOD:PUBLISH
UID:d9ea4c31-fb60-4c64-97e2-9c9e8818f4e1
X-WR-CALDESC:Plant the Tiny Seed | An Interactive Preschool Class\n\nYou ar
 e invited to a Zoom meeting.When: Mar 28\, 2024 10:00 AM Central Time (US 
 and Canada)\n\nRegister in advance for this meeting:\nhttps://us02web.zoom
 .us/meeting/register/tZAod-6pqD0uG9QC6HEJOfcSdTgiaUMVZXaS\n\nAfter registe
 ring\, you will receive a confirmation email containing information about 
 joining the meeting.
X-WR-RELCALID:4e07c3091d99d934e8254a138d5788c5
X-WR-TIMEZONE:America/Chicago
BEGIN:VTIMEZONE
TZID:America/Chicago
BEGIN:STANDARD
TZNAME:CST
DTSTART:20231105T020000
TZOFFSETFROM:-0500
TZOFFSETTO:-0600
RDATE:20241103T020000
END:STANDARD
BEGIN:DAYLIGHT
TZNAME:CDT
DTSTART:20240310T020000
TZOFFSETFROM:-0600
TZOFFSETTO:-0500
RDATE:20250309T020000
END:DAYLIGHT
END:VTIMEZONE
BEGIN:VEVENT
UID:c92a7fb1-7473-48d5-8745-c184873a5752
DTSTAMP:20260421T232913Z
DESCRIPTION:Plant the Tiny Seed | An Interactive Preschool Class\n\nYou are
  invited to a Zoom meeting.When: Mar 28\, 2024 10:00 AM Central Time (US a
 nd Canada)\n\nRegister in advance for this meeting:\nhttps://us02web.zoom.
 us/meeting/register/tZAod-6pqD0uG9QC6HEJOfcSdTgiaUMVZXaS\n\nAfter register
 ing\, you will receive a confirmation email containing information about j
 oining the meeting.
DTSTART;TZID=America/Chicago:20240328T100000
DTEND;TZID=America/Chicago:20240328T103000
LOCATION:https://us02web.zoom.us/meeting/register/tZAod-6pqD0uG9QC6HEJOfcSd
 TgiaUMVZXaS
SUMMARY:Plant the Tiny Seed | An Interactive Preschool Class
END:VEVENT
END:VCALENDAR
