BEGIN:VCALENDAR
VERSION:2.0
PRODID:-//midwestchildcare.org//NONSGML kigkonsult.se iCalcreator 2.30.10//
CALSCALE:GREGORIAN
METHOD:PUBLISH
UID:9acba275-db71-4948-89d3-2484926ad85b
X-WR-CALDESC:Plant the Tiny Seed | An Interactive Preschool Class\n\nYou ar
 e invited to a Zoom meeting.\nWhen: Mar 28\, 2024 09:00 AM Central Time (U
 S and Canada)\n\nRegister in advance for this meeting:\nhttps://us02web.zo
 om.us/meeting/register/tZ0td-GurD0vEtG1I8N-thJ1zQYgv3ohwyvp\n\nAfter regis
 tering\, you will receive a confirmation email containing information abou
 t joining the meeting.
X-WR-RELCALID:8ad483ffced02a4bb02caa2de3e54bd3
X-WR-TIMEZONE:America/Chicago
BEGIN:VTIMEZONE
TZID:America/Chicago
BEGIN:STANDARD
TZNAME:CST
DTSTART:20231105T020000
TZOFFSETFROM:-0500
TZOFFSETTO:-0600
RDATE:20241103T020000
END:STANDARD
BEGIN:DAYLIGHT
TZNAME:CDT
DTSTART:20240310T020000
TZOFFSETFROM:-0600
TZOFFSETTO:-0500
RDATE:20250309T020000
END:DAYLIGHT
END:VTIMEZONE
BEGIN:VEVENT
UID:c59bf981-2886-4798-b07f-d9e285db17cf
DTSTAMP:20260421T232811Z
DESCRIPTION:Plant the Tiny Seed | An Interactive Preschool Class\n\nYou are
  invited to a Zoom meeting.\nWhen: Mar 28\, 2024 09:00 AM Central Time (US
  and Canada)\n\nRegister in advance for this meeting:\nhttps://us02web.zoo
 m.us/meeting/register/tZ0td-GurD0vEtG1I8N-thJ1zQYgv3ohwyvp\n\nAfter regist
 ering\, you will receive a confirmation email containing information about
  joining the meeting.
DTSTART;TZID=America/Chicago:20240328T090000
DTEND;TZID=America/Chicago:20240328T093000
LOCATION:https://us02web.zoom.us/meeting/register/tZ0td-GurD0vEtG1I8N-thJ1z
 QYgv3ohwyvp
SUMMARY:Plant the Tiny Seed | An Interactive Preschool Class
END:VEVENT
END:VCALENDAR
