BEGIN:VCALENDAR
VERSION:2.0
PRODID:-//midwestchildcare.org//NONSGML kigkonsult.se iCalcreator 2.30.10//
CALSCALE:GREGORIAN
METHOD:PUBLISH
UID:3255859b-f7a0-44b4-8541-a98de48dddcb
X-WR-CALDESC:Nutrition and Early Brain Development | Webinar\n\nPlease regi
 ster for Nutrition and Early Brain Development on Mar 25\, 2024 7:00 PM CD
 T at:\n\nhttps://attendee.gotowebinar.com/register/6903424929897490265\n\n
 After registering\, you will receive a confirmation email containing infor
 mation about joining the webinar.
X-WR-RELCALID:1447a28b061c0039c68ad8a4d860252f
X-WR-TIMEZONE:America/Chicago
BEGIN:VTIMEZONE
TZID:America/Chicago
BEGIN:STANDARD
TZNAME:CST
DTSTART:20231105T020000
TZOFFSETFROM:-0500
TZOFFSETTO:-0600
RDATE:20241103T020000
END:STANDARD
BEGIN:DAYLIGHT
TZNAME:CDT
DTSTART:20240310T020000
TZOFFSETFROM:-0600
TZOFFSETTO:-0500
RDATE:20250309T020000
END:DAYLIGHT
END:VTIMEZONE
BEGIN:VEVENT
UID:35dac2f0-e144-4a25-9028-4a390fd67536
DTSTAMP:20260421T233048Z
DESCRIPTION:Nutrition and Early Brain Development | Webinar\n\nPlease regis
 ter for Nutrition and Early Brain Development on Mar 25\, 2024 7:00 PM CDT
  at:\n\nhttps://attendee.gotowebinar.com/register/6903424929897490265\n\nA
 fter registering\, you will receive a confirmation email containing inform
 ation about joining the webinar.
DTSTART;TZID=America/Chicago:20240325T190000
DTEND;TZID=America/Chicago:20240325T200000
LOCATION:https://attendee.gotowebinar.com/register/6903424929897490265
SUMMARY:Nutrition and Early Brain Development | Webinar
END:VEVENT
END:VCALENDAR
