BEGIN:VCALENDAR
VERSION:2.0
PRODID:-//midwestchildcare.org//NONSGML kigkonsult.se iCalcreator 2.30.10//
CALSCALE:GREGORIAN
METHOD:PUBLISH
UID:a04d6fe8-4ba7-4bbe-a433-666d65171486
X-WR-CALDESC:The Thing About Spring | An Interactive Preschool Class\n\nYou
  are invited to a Zoom meeting.\nWhen: Mar 21\, 2024 10:00 AM Central Time
  (US and Canada)\n\nRegister in advance for this meeting:\nhttps://us02web
 .zoom.us/meeting/register/tZckc-qpqTIrGtNqHuH8Tk7yIgS798kBr7uZ\n\nAfter re
 gistering\, you will receive a confirmation email containing information a
 bout joining the meeting.
X-WR-RELCALID:d580a03cacfe76c925f9ffc937ed68ff
X-WR-TIMEZONE:America/Chicago
BEGIN:VTIMEZONE
TZID:America/Chicago
BEGIN:STANDARD
TZNAME:CST
DTSTART:20231105T020000
TZOFFSETFROM:-0500
TZOFFSETTO:-0600
RDATE:20241103T020000
END:STANDARD
BEGIN:DAYLIGHT
TZNAME:CDT
DTSTART:20240310T020000
TZOFFSETFROM:-0600
TZOFFSETTO:-0500
RDATE:20250309T020000
END:DAYLIGHT
END:VTIMEZONE
BEGIN:VEVENT
UID:7d5d8080-eeb1-45f9-a4ed-b319f7008d86
DTSTAMP:20260421T232734Z
DESCRIPTION:The Thing About Spring | An Interactive Preschool Class\n\nYou 
 are invited to a Zoom meeting.\nWhen: Mar 21\, 2024 10:00 AM Central Time 
 (US and Canada)\n\nRegister in advance for this meeting:\nhttps://us02web.
 zoom.us/meeting/register/tZckc-qpqTIrGtNqHuH8Tk7yIgS798kBr7uZ\n\nAfter reg
 istering\, you will receive a confirmation email containing information ab
 out joining the meeting.
DTSTART;TZID=America/Chicago:20240321T100000
DTEND;TZID=America/Chicago:20240321T103000
LOCATION:https://us02web.zoom.us/meeting/register/tZckc-qpqTIrGtNqHuH8Tk7yI
 gS798kBr7uZ
SUMMARY:The Thing About Spring | An Interactive Preschool Class
END:VEVENT
END:VCALENDAR
