BEGIN:VCALENDAR
VERSION:2.0
PRODID:-//midwestchildcare.org//NONSGML kigkonsult.se iCalcreator 2.30.10//
CALSCALE:GREGORIAN
METHOD:PUBLISH
UID:31aa61a9-db98-4466-9898-464b70cea063
X-WR-CALDESC:The Thing About Spring | An Interactive Preschool Class\n\nYou
  are invited to a Zoom meeting.\nWhen: Mar 21\, 2024 09:30 AM Central Time
  (US and Canada)\n\nRegister in advance for this meeting:\nhttps://us02web
 .zoom.us/meeting/register/tZAtdumtqzIsHdGqm0dPIsEP-zGCec0voblI\n\nAfter re
 gistering\, you will receive a confirmation email containing information a
 bout joining the meeting.
X-WR-RELCALID:17b62673864f7b4bb0f9b485d2e3fe4b
X-WR-TIMEZONE:America/Chicago
BEGIN:VTIMEZONE
TZID:America/Chicago
BEGIN:STANDARD
TZNAME:CST
DTSTART:20231105T020000
TZOFFSETFROM:-0500
TZOFFSETTO:-0600
RDATE:20241103T020000
END:STANDARD
BEGIN:DAYLIGHT
TZNAME:CDT
DTSTART:20240310T020000
TZOFFSETFROM:-0600
TZOFFSETTO:-0500
RDATE:20250309T020000
END:DAYLIGHT
END:VTIMEZONE
BEGIN:VEVENT
UID:1b57530e-b896-4927-97e5-c1af9dd0cc34
DTSTAMP:20260421T232734Z
DESCRIPTION:The Thing About Spring | An Interactive Preschool Class\n\nYou 
 are invited to a Zoom meeting.\nWhen: Mar 21\, 2024 09:30 AM Central Time 
 (US and Canada)\n\nRegister in advance for this meeting:\nhttps://us02web.
 zoom.us/meeting/register/tZAtdumtqzIsHdGqm0dPIsEP-zGCec0voblI\n\nAfter reg
 istering\, you will receive a confirmation email containing information ab
 out joining the meeting.
DTSTART;TZID=America/Chicago:20240321T093000
DTEND;TZID=America/Chicago:20240321T100000
LOCATION:https://us02web.zoom.us/meeting/register/tZAtdumtqzIsHdGqm0dPIsEP-
 zGCec0voblI
SUMMARY:The Thing About Spring | An Interactive Preschool Class
END:VEVENT
END:VCALENDAR
