BEGIN:VCALENDAR
VERSION:2.0
PRODID:-//midwestchildcare.org//NONSGML kigkonsult.se iCalcreator 2.30.10//
CALSCALE:GREGORIAN
METHOD:PUBLISH
UID:504ab7ba-2ad1-4506-8807-c2d7ba388dba
X-WR-CALDESC:The Leprechaun Who Lost His Rainbow | An Interactive Preschool
  Class\n\nYou are invited to a Zoom meeting.\nWhen: Mar 14\, 2024 10:00 AM
  Central Time (US and Canada)\n\nRegister in advance for this meeting:\nht
 tps://us02web.zoom.us/meeting/register/tZMpcO6hpzooHt0_S1QW_skJy8hDcIovypn
 7\n\nAfter registering\, you will receive a confirmation email containing 
 information about joining the meeting.
X-WR-RELCALID:a35d3185e74df9044f9ac06000020cd3
X-WR-TIMEZONE:America/Chicago
BEGIN:VTIMEZONE
TZID:America/Chicago
BEGIN:STANDARD
TZNAME:CST
DTSTART:20231105T020000
TZOFFSETFROM:-0500
TZOFFSETTO:-0600
RDATE:20241103T020000
END:STANDARD
BEGIN:DAYLIGHT
TZNAME:CDT
DTSTART:20240310T020000
TZOFFSETFROM:-0600
TZOFFSETTO:-0500
RDATE:20250309T020000
END:DAYLIGHT
END:VTIMEZONE
BEGIN:VEVENT
UID:ecba85a5-3593-496c-ac19-976251593fc6
DTSTAMP:20260421T233246Z
DESCRIPTION:The Leprechaun Who Lost His Rainbow | An Interactive Preschool 
 Class\n\nYou are invited to a Zoom meeting.\nWhen: Mar 14\, 2024 10:00 AM 
 Central Time (US and Canada)\n\nRegister in advance for this meeting:\nhtt
 ps://us02web.zoom.us/meeting/register/tZMpcO6hpzooHt0_S1QW_skJy8hDcIovypn7
 \n\nAfter registering\, you will receive a confirmation email containing i
 nformation about joining the meeting.
DTSTART;TZID=America/Chicago:20240314T100000
DTEND;TZID=America/Chicago:20240314T103000
LOCATION:https://us02web.zoom.us/meeting/register/tZMpcO6hpzooHt0_S1QW_skJy
 8hDcIovypn7
SUMMARY:The Leprechaun Who Lost His Rainbow | An Interactive Preschool Clas
 s
END:VEVENT
END:VCALENDAR
