BEGIN:VCALENDAR
VERSION:2.0
PRODID:-//midwestchildcare.org//NONSGML kigkonsult.se iCalcreator 2.30.10//
CALSCALE:GREGORIAN
METHOD:PUBLISH
UID:eecb5b5a-39ef-415c-9190-c27fba529bea
X-WR-CALDESC:Simple Gardening Ideas in a Childcare Setting | 1/2 Day Traini
 ng IN-PERSON\n\nYou are invited to a Zoom meeting.\nWhen: Mar 9\, 2024 09:
 00 AM -1:00PMCentral Time (US and Canada)\n\nRegister in advance for this 
 meeting:\nhttps://us02web.zoom.us/meeting/register/tZctdemspz0rEtcwTlT0VbH
 UX1BBVb38p8rA\n\nAfter registering\, you will receive a confirmation email
  containing information about joining the meeting.
X-WR-RELCALID:18afc131dabc8ae63ce3a86cb2231a70
X-WR-TIMEZONE:America/Chicago
BEGIN:VTIMEZONE
TZID:America/Chicago
BEGIN:STANDARD
TZNAME:CST
DTSTART:20231105T020000
TZOFFSETFROM:-0500
TZOFFSETTO:-0600
RDATE:20241103T020000
END:STANDARD
BEGIN:DAYLIGHT
TZNAME:CDT
DTSTART:20230312T020000
TZOFFSETFROM:-0600
TZOFFSETTO:-0500
RDATE:20240310T020000
RDATE:20250309T020000
END:DAYLIGHT
END:VTIMEZONE
BEGIN:VEVENT
UID:722d66c7-2d26-479a-8cf8-baef48099d26
DTSTAMP:20260421T233658Z
DESCRIPTION:Simple Gardening Ideas in a Childcare Setting | 1/2 Day Trainin
 g IN-PERSON\n\nYou are invited to a Zoom meeting.\nWhen: Mar 9\, 2024 09:0
 0 AM -1:00PMCentral Time (US and Canada)\n\nRegister in advance for this m
 eeting:\nhttps://us02web.zoom.us/meeting/register/tZctdemspz0rEtcwTlT0VbHU
 X1BBVb38p8rA\n\nAfter registering\, you will receive a confirmation email 
 containing information about joining the meeting.
DTSTART;TZID=America/Chicago:20240309T090000
DTEND;TZID=America/Chicago:20240309T130000
LOCATION:https://us02web.zoom.us/meeting/register/tZctdemspz0rEtcwTlT0VbHUX
 1BBVb38p8rA
SUMMARY:Simple Gardening Ideas in a Childcare Setting | 1/2 Day Training IN
 -PERSON
END:VEVENT
END:VCALENDAR
