BEGIN:VCALENDAR
VERSION:2.0
PRODID:-//midwestchildcare.org//NONSGML kigkonsult.se iCalcreator 2.30.10//
CALSCALE:GREGORIAN
METHOD:PUBLISH
UID:9e0ad90a-82db-4d51-b473-ee041c648356
X-WR-CALDESC:The Grizzly Bear Who Lost His Grrrrr! | An Interactive Prescho
 ol Class\n\nYou are invited to a Zoom meeting.\nWhen: Mar 7\, 2024 09:00 A
 M Central Time (US and Canada)\n\nRegister in advance for this meeting:\nh
 ttps://us02web.zoom.us/meeting/register/tZMucuirrD8iGtxc4TSfRJAcHesTVMlH5N
 Dw\n\nAfter registering\, you will receive a confirmation email containing
  information about joining the meeting.
X-WR-RELCALID:a9d18595cb34661bcca1278eac88efec
X-WR-TIMEZONE:America/Chicago
BEGIN:VTIMEZONE
TZID:America/Chicago
BEGIN:STANDARD
TZNAME:CST
DTSTART:20231105T020000
TZOFFSETFROM:-0500
TZOFFSETTO:-0600
RDATE:20241103T020000
END:STANDARD
BEGIN:DAYLIGHT
TZNAME:CDT
DTSTART:20230312T020000
TZOFFSETFROM:-0600
TZOFFSETTO:-0500
RDATE:20240310T020000
RDATE:20250309T020000
END:DAYLIGHT
END:VTIMEZONE
BEGIN:VEVENT
UID:abc92118-f38f-46f7-bd94-546e9ef389b2
DTSTAMP:20260421T233612Z
DESCRIPTION:The Grizzly Bear Who Lost His Grrrrr! | An Interactive Preschoo
 l Class\n\nYou are invited to a Zoom meeting.\nWhen: Mar 7\, 2024 09:00 AM
  Central Time (US and Canada)\n\nRegister in advance for this meeting:\nht
 tps://us02web.zoom.us/meeting/register/tZMucuirrD8iGtxc4TSfRJAcHesTVMlH5ND
 w\n\nAfter registering\, you will receive a confirmation email containing 
 information about joining the meeting.
DTSTART;TZID=America/Chicago:20240307T090000
DTEND;TZID=America/Chicago:20240307T093000
LOCATION:https://us02web.zoom.us/meeting/register/tZMucuirrD8iGtxc4TSfRJAcH
 esTVMlH5NDw
SUMMARY:The Grizzly Bear Who Lost His Grrrrr! | An Interactive Preschool Cl
 ass
END:VEVENT
END:VCALENDAR
