BEGIN:VCALENDAR
VERSION:2.0
PRODID:-//midwestchildcare.org//NONSGML kigkonsult.se iCalcreator 2.30.10//
CALSCALE:GREGORIAN
METHOD:PUBLISH
UID:c5ca3891-70c4-4e8e-83db-a98616415d61
X-WR-CALDESC:Please register for Ideas to Keep Kids Active When Cold Outsid
 e on Feb 29\, 2024 1:00 PM CST at:\n\nhttps://attendee.gotowebinar.com/reg
 ister/8006672696803410270\n\nAfter registering\, you will receive a confir
 mation email containing information about joining the webinar.
X-WR-RELCALID:175a1b187d73bb251ac9b177aa34cecf
X-WR-TIMEZONE:America/Chicago
BEGIN:VTIMEZONE
TZID:America/Chicago
BEGIN:STANDARD
TZNAME:CST
DTSTART:20231105T020000
TZOFFSETFROM:-0500
TZOFFSETTO:-0600
RDATE:20241103T020000
END:STANDARD
BEGIN:DAYLIGHT
TZNAME:CDT
DTSTART:20230312T020000
TZOFFSETFROM:-0600
TZOFFSETTO:-0500
RDATE:20240310T020000
RDATE:20250309T020000
END:DAYLIGHT
END:VTIMEZONE
BEGIN:VEVENT
UID:60e363d5-4dab-495a-9c29-efb15fc8b2db
DTSTAMP:20260422T013820Z
DESCRIPTION:Please register for Ideas to Keep Kids Active When Cold Outside
  on Feb 29\, 2024 1:00 PM CST at:\n\nhttps://attendee.gotowebinar.com/regi
 ster/8006672696803410270\n\nAfter registering\, you will receive a confirm
 ation email containing information about joining the webinar.
DTSTART;TZID=America/Chicago:20240229T050000
DTEND;TZID=America/Chicago:20240229T050001
LOCATION:https://attendee.gotowebinar.com/register/8006672696803410270
SUMMARY:Ideas to Keep Kids Active When Cold Outside | Webinar
END:VEVENT
END:VCALENDAR
