BEGIN:VCALENDAR
VERSION:2.0
PRODID:-//midwestchildcare.org//NONSGML kigkonsult.se iCalcreator 2.30.10//
CALSCALE:GREGORIAN
METHOD:PUBLISH
UID:57393fee-2aea-493b-95cd-cae4f0345942
X-WR-CALDESC:HSI Pediatric First Aid | CPR AED Child/Infant/Adult (2020)\n
 \nCLASS NUMBER:	31509198\nCLASS TYPE:	Classroom Training\n\nLOCATION:	\n7200 
 S 84th St\nLaVista\, NE 68128\n\nDATE/TIME:	02/29/2024\, 6:00 PM - 10:00 PM
 \n\nIn Person Full CPR/AED/FA Class\; Contact: Matthew Nagler 402-681-9559
  or mattsafetytraining@gmail.com
X-WR-RELCALID:5b2890560915faabd87535f10702c799
X-WR-TIMEZONE:America/Chicago
BEGIN:VTIMEZONE
TZID:America/Chicago
BEGIN:STANDARD
TZNAME:CST
DTSTART:20231105T020000
TZOFFSETFROM:-0500
TZOFFSETTO:-0600
RDATE:20241103T020000
END:STANDARD
BEGIN:DAYLIGHT
TZNAME:CDT
DTSTART:20230312T020000
TZOFFSETFROM:-0600
TZOFFSETTO:-0500
RDATE:20240310T020000
RDATE:20250309T020000
END:DAYLIGHT
END:VTIMEZONE
BEGIN:VEVENT
UID:077d5184-a1b1-4acc-9d56-d15041be4035
DTSTAMP:20260422T012902Z
DESCRIPTION:HSI Pediatric First Aid | CPR AED Child/Infant/Adult (2020)\n\n
 CLASS NUMBER:	31509198\nCLASS TYPE:	Classroom Training\n\nLOCATION:	\n7200 S 
 84th St\nLaVista\, NE 68128\n\nDATE/TIME:	02/29/2024\, 6:00 PM - 10:00 PM\n
 \nIn Person Full CPR/AED/FA Class\; Contact: Matthew Nagler 402-681-9559 o
 r mattsafetytraining@gmail.com
DTSTART;TZID=America/Chicago:20240229T180000
DTEND;TZID=America/Chicago:20240229T220000
LOCATION:
SUMMARY:HSI Pediatric First Aid | CPR AED Child/Infant/Adult (2020): Full C
 lass
END:VEVENT
END:VCALENDAR
