BEGIN:VCALENDAR
VERSION:2.0
PRODID:-//midwestchildcare.org//NONSGML kigkonsult.se iCalcreator 2.30.10//
CALSCALE:GREGORIAN
METHOD:PUBLISH
UID:5eb8c455-a670-401e-b111-89ae8e103791
X-WR-CALDESC:Penguin Problems: An Interactive Preschool Class\n\nYou are in
 vited to a Zoom meeting.\nWhen: Feb 22\, 2024 09:30 AM Central Time (US an
 d Canada)\n\nRegister in advance for this meeting:\nhttps://us02web.zoom.u
 s/meeting/register/tZ0pduCtpjojH9TLHrVlDZs89uBSbY5vjgsA\n\nAfter registeri
 ng\, you will receive a confirmation email containing information about jo
 ining the meeting.
X-WR-RELCALID:86d47f0a467f275e874c1895103fb992
X-WR-TIMEZONE:America/Chicago
BEGIN:VTIMEZONE
TZID:America/Chicago
BEGIN:STANDARD
TZNAME:CST
DTSTART:20231105T020000
TZOFFSETFROM:-0500
TZOFFSETTO:-0600
RDATE:20241103T020000
END:STANDARD
BEGIN:DAYLIGHT
TZNAME:CDT
DTSTART:20230312T020000
TZOFFSETFROM:-0600
TZOFFSETTO:-0500
RDATE:20240310T020000
RDATE:20250309T020000
END:DAYLIGHT
END:VTIMEZONE
BEGIN:VEVENT
UID:2e594660-2dc5-4643-9868-52f08385f71a
DTSTAMP:20260422T012840Z
DESCRIPTION:Penguin Problems: An Interactive Preschool Class\n\nYou are inv
 ited to a Zoom meeting.\nWhen: Feb 22\, 2024 09:30 AM Central Time (US and
  Canada)\n\nRegister in advance for this meeting:\nhttps://us02web.zoom.us
 /meeting/register/tZ0pduCtpjojH9TLHrVlDZs89uBSbY5vjgsA\n\nAfter registerin
 g\, you will receive a confirmation email containing information about joi
 ning the meeting.
DTSTART;TZID=America/Chicago:20240222T093000
DTEND;TZID=America/Chicago:20240222T100000
LOCATION:
SUMMARY:Penguin Problems: An Interactive Preschool Class
END:VEVENT
END:VCALENDAR
