BEGIN:VCALENDAR
VERSION:2.0
PRODID:-//midwestchildcare.org//NONSGML kigkonsult.se iCalcreator 2.30.10//
CALSCALE:GREGORIAN
METHOD:PUBLISH
UID:ecc11340-47c4-4c6e-99fa-703132d48046
X-WR-CALDESC:Luna Muna: An Interactive Preschool Class\n\nYou are invited t
 o a Zoom meeting.\nWhen: Feb 15\, 2024 10:00 AM Central Time (US and Canad
 a)\n\nRegister in advance for this meeting:\nhttps://us02web.zoom.us/meeti
 ng/register/tZ0sceupqzMrGNMqrG5--s8K4no53n1weI4z\n\nAfter registering\, yo
 u will receive a confirmation email containing information about joining t
 he meeting.\n
X-WR-RELCALID:c5641f8820348b9299b1379edc7e3651
X-WR-TIMEZONE:America/Chicago
BEGIN:VTIMEZONE
TZID:America/Chicago
BEGIN:STANDARD
TZNAME:CST
DTSTART:20231105T020000
TZOFFSETFROM:-0500
TZOFFSETTO:-0600
RDATE:20241103T020000
END:STANDARD
BEGIN:DAYLIGHT
TZNAME:CDT
DTSTART:20230312T020000
TZOFFSETFROM:-0600
TZOFFSETTO:-0500
RDATE:20240310T020000
RDATE:20250309T020000
END:DAYLIGHT
END:VTIMEZONE
BEGIN:VEVENT
UID:66ef3088-9b76-4274-a8fa-32c5e13817dc
DTSTAMP:20260422T013715Z
DESCRIPTION:Luna Muna: An Interactive Preschool Class\n\nYou are invited to
  a Zoom meeting.\nWhen: Feb 15\, 2024 10:00 AM Central Time (US and Canada
 )\n\nRegister in advance for this meeting:\nhttps://us02web.zoom.us/meetin
 g/register/tZ0sceupqzMrGNMqrG5--s8K4no53n1weI4z\n\nAfter registering\, you
  will receive a confirmation email containing information about joining th
 e meeting.\n
DTSTART;TZID=America/Chicago:20240215T100000
DTEND;TZID=America/Chicago:20240215T103000
LOCATION:
SUMMARY:Luna Muna: An Interactive Preschool Class
END:VEVENT
END:VCALENDAR
