BEGIN:VCALENDAR
VERSION:2.0
PRODID:-//midwestchildcare.org//NONSGML kigkonsult.se iCalcreator 2.30.10//
CALSCALE:GREGORIAN
METHOD:PUBLISH
UID:d5922784-e473-4057-b80c-255c0b255510
X-WR-CALDESC:Luna Muna: An Interactive Preschool Class\n\nYou are invited t
 o a Zoom meeting.\nWhen: Feb 15\, 2024 09:30 AM Central Time (US and Canad
 a)\n\nRegister in advance for this meeting:\nhttps://us02web.zoom.us/meeti
 ng/register/tZMlde-sqjMrHN1tTE0Mzb6sWwGG0KP9W3LS\n\nAfter registering\, yo
 u will receive a confirmation email containing information about joining t
 he meeting.
X-WR-RELCALID:fb239b90f0a62b0bedc3f4fb7fcc2bc6
X-WR-TIMEZONE:America/Chicago
BEGIN:VTIMEZONE
TZID:America/Chicago
BEGIN:STANDARD
TZNAME:CST
DTSTART:20231105T020000
TZOFFSETFROM:-0500
TZOFFSETTO:-0600
RDATE:20241103T020000
END:STANDARD
BEGIN:DAYLIGHT
TZNAME:CDT
DTSTART:20230312T020000
TZOFFSETFROM:-0600
TZOFFSETTO:-0500
RDATE:20240310T020000
RDATE:20250309T020000
END:DAYLIGHT
END:VTIMEZONE
BEGIN:VEVENT
UID:81d80855-a30b-4149-b13f-744ad4e9c487
DTSTAMP:20260422T012645Z
DESCRIPTION:Luna Muna: An Interactive Preschool Class\n\nYou are invited to
  a Zoom meeting.\nWhen: Feb 15\, 2024 09:30 AM Central Time (US and Canada
 )\n\nRegister in advance for this meeting:\nhttps://us02web.zoom.us/meetin
 g/register/tZMlde-sqjMrHN1tTE0Mzb6sWwGG0KP9W3LS\n\nAfter registering\, you
  will receive a confirmation email containing information about joining th
 e meeting.
DTSTART;TZID=America/Chicago:20240215T093000
DTEND;TZID=America/Chicago:20240215T100000
LOCATION:
SUMMARY:Luna Muna: An Interactive Preschool Class
END:VEVENT
END:VCALENDAR
