BEGIN:VCALENDAR
VERSION:2.0
PRODID:-//midwestchildcare.org//NONSGML kigkonsult.se iCalcreator 2.30.10//
CALSCALE:GREGORIAN
METHOD:PUBLISH
UID:3611afde-0654-41d8-87f1-488a0c28bf28
X-WR-CALDESC:Luna Muna: An Interactive Preschool Class\n\nYou are invited t
 o a Zoom meeting.\nWhen: Feb 15\, 2024 09:00 AM Central Time (US and Canad
 a)\n\nRegister in advance for this meeting:\nhttps://us02web.zoom.us/meeti
 ng/register/tZUrcuuvqDgvG9XngRP5ypiJNv6zLJ_Nk9EY\n\nAfter registering\, yo
 u will receive a confirmation email containing information about joining t
 he meeting.
X-WR-RELCALID:8f99ba185c21de93e81b707202cc1127
X-WR-TIMEZONE:America/Chicago
BEGIN:VTIMEZONE
TZID:America/Chicago
BEGIN:STANDARD
TZNAME:CST
DTSTART:20231105T020000
TZOFFSETFROM:-0500
TZOFFSETTO:-0600
RDATE:20241103T020000
END:STANDARD
BEGIN:DAYLIGHT
TZNAME:CDT
DTSTART:20230312T020000
TZOFFSETFROM:-0600
TZOFFSETTO:-0500
RDATE:20240310T020000
RDATE:20250309T020000
END:DAYLIGHT
END:VTIMEZONE
BEGIN:VEVENT
UID:a3b729be-1a6e-495d-9774-d5d27288b141
DTSTAMP:20260422T013213Z
DESCRIPTION:Luna Muna: An Interactive Preschool Class\n\nYou are invited to
  a Zoom meeting.\nWhen: Feb 15\, 2024 09:00 AM Central Time (US and Canada
 )\n\nRegister in advance for this meeting:\nhttps://us02web.zoom.us/meetin
 g/register/tZUrcuuvqDgvG9XngRP5ypiJNv6zLJ_Nk9EY\n\nAfter registering\, you
  will receive a confirmation email containing information about joining th
 e meeting.
DTSTART;TZID=America/Chicago:20240215T090000
DTEND;TZID=America/Chicago:20240215T093000
LOCATION:
SUMMARY:Luna Muna: An Interactive Preschool Class
END:VEVENT
END:VCALENDAR
