BEGIN:VCALENDAR
VERSION:2.0
PRODID:-//midwestchildcare.org//NONSGML kigkonsult.se iCalcreator 2.30.10//
CALSCALE:GREGORIAN
METHOD:PUBLISH
UID:7ed118c4-85e2-4430-be96-c8b99ffca990
X-WR-CALDESC:Love Monster: An Interactive Preschool Class\n\nYou are invite
 d to a Zoom meeting.\nWhen: Feb 8\, 2024 09:30 AM Central Time (US and Can
 ada)\n\nRegister in advance for this meeting:\nhttps://us02web.zoom.us/mee
 ting/register/tZYqdOygpz8rE9a9ntCtJvWQ9hbs4i668T30\n\nAfter registering\, 
 you will receive a confirmation email containing information about joining
  the meeting.
X-WR-RELCALID:695de2c6f572ad2e8adb47f3cbe5893c
X-WR-TIMEZONE:America/Chicago
BEGIN:VTIMEZONE
TZID:America/Chicago
BEGIN:STANDARD
TZNAME:CST
DTSTART:20231105T020000
TZOFFSETFROM:-0500
TZOFFSETTO:-0600
RDATE:20241103T020000
END:STANDARD
BEGIN:DAYLIGHT
TZNAME:CDT
DTSTART:20230312T020000
TZOFFSETFROM:-0600
TZOFFSETTO:-0500
RDATE:20240310T020000
RDATE:20250309T020000
END:DAYLIGHT
END:VTIMEZONE
BEGIN:VEVENT
UID:c2ed6d79-c6af-4f76-a51c-724889c3f1c4
DTSTAMP:20260422T013644Z
DESCRIPTION:Love Monster: An Interactive Preschool Class\n\nYou are invited
  to a Zoom meeting.\nWhen: Feb 8\, 2024 09:30 AM Central Time (US and Cana
 da)\n\nRegister in advance for this meeting:\nhttps://us02web.zoom.us/meet
 ing/register/tZYqdOygpz8rE9a9ntCtJvWQ9hbs4i668T30\n\nAfter registering\, y
 ou will receive a confirmation email containing information about joining 
 the meeting.
DTSTART;TZID=America/Chicago:20240208T093000
DTEND;TZID=America/Chicago:20240208T100000
LOCATION:
SUMMARY:Love Monster: An Interactive Preschool Class
END:VEVENT
END:VCALENDAR
