BEGIN:VCALENDAR
VERSION:2.0
PRODID:-//midwestchildcare.org//NONSGML kigkonsult.se iCalcreator 2.30.10//
CALSCALE:GREGORIAN
METHOD:PUBLISH
UID:738d7dd1-a241-440d-9391-03a7a40b98f9
X-WR-CALDESC:HSI Pediatric First Aid | CPR AED Child/Infant/Adult (2020): R
 enewal Class\n\nCLASS NUMBER:	31509192\nCLASS TYPE:	Classroom Training\n\nLO
 CATION:	\n7200 S 84th St\nLaVista\, NE 68118\n\nDATE/TIME:	02/08/2024\, 6:00
  PM - 8:30 PM\n\nIn Person Renewal Class (current certification or 30 days
  or less expired)\; Contact: Matthew Nagler: 402-681-9559 or mattsafetytra
 ining@gmail.com
X-WR-RELCALID:0494c02396574ee7466e5dd5223310e5
X-WR-TIMEZONE:America/Chicago
BEGIN:VTIMEZONE
TZID:America/Chicago
BEGIN:STANDARD
TZNAME:CST
DTSTART:20231105T020000
TZOFFSETFROM:-0500
TZOFFSETTO:-0600
RDATE:20241103T020000
END:STANDARD
BEGIN:DAYLIGHT
TZNAME:CDT
DTSTART:20230312T020000
TZOFFSETFROM:-0600
TZOFFSETTO:-0500
RDATE:20240310T020000
RDATE:20250309T020000
END:DAYLIGHT
END:VTIMEZONE
BEGIN:VEVENT
UID:b2935954-1836-407e-9550-8ab853c04290
DTSTAMP:20260422T013819Z
DESCRIPTION:HSI Pediatric First Aid | CPR AED Child/Infant/Adult (2020): Re
 newal Class\n\nCLASS NUMBER:	31509192\nCLASS TYPE:	Classroom Training\n\nLOC
 ATION:	\n7200 S 84th St\nLaVista\, NE 68118\n\nDATE/TIME:	02/08/2024\, 6:00 
 PM - 8:30 PM\n\nIn Person Renewal Class (current certification or 30 days 
 or less expired)\; Contact: Matthew Nagler: 402-681-9559 or mattsafetytrai
 ning@gmail.com
DTSTART;TZID=America/Chicago:20240208T180000
DTEND;TZID=America/Chicago:20240208T203000
LOCATION:
SUMMARY:HSI Pediatric First Aid | CPR AED Child/Infant/Adult (2020): Renewa
 l Class
END:VEVENT
END:VCALENDAR
