BEGIN:VCALENDAR
VERSION:2.0
PRODID:-//midwestchildcare.org//NONSGML kigkonsult.se iCalcreator 2.30.10//
CALSCALE:GREGORIAN
METHOD:PUBLISH
UID:facdeb64-dddf-4d24-b685-dd2c6de953a4
X-WR-CALDESC:The Little Snowplow Wishes: An Interactive Preschool Class\n\n
 You are invited to a Zoom meeting.\nWhen: Feb 1\, 2024 09:30 AM Central Ti
 me (US and Canada)\n\nRegister in advance for this meeting:\nhttps://us02w
 eb.zoom.us/meeting/register/tZAtfu-vqjMqE9ecmkNBHPfvFt7aye63264u\n\nAfter 
 registering\, you will receive a confirmation email containing information
  about joining the meeting.
X-WR-RELCALID:2811a5b19e76a04095b3e568a4324c06
X-WR-TIMEZONE:America/Chicago
BEGIN:VTIMEZONE
TZID:America/Chicago
BEGIN:STANDARD
TZNAME:CST
DTSTART:20231105T020000
TZOFFSETFROM:-0500
TZOFFSETTO:-0600
RDATE:20241103T020000
END:STANDARD
BEGIN:DAYLIGHT
TZNAME:CDT
DTSTART:20230312T020000
TZOFFSETFROM:-0600
TZOFFSETTO:-0500
RDATE:20240310T020000
RDATE:20250309T020000
END:DAYLIGHT
END:VTIMEZONE
BEGIN:VEVENT
UID:c9f920ce-fb2a-4149-8f27-a46d6b90bc5d
DTSTAMP:20260422T012902Z
DESCRIPTION:The Little Snowplow Wishes: An Interactive Preschool Class\n\nY
 ou are invited to a Zoom meeting.\nWhen: Feb 1\, 2024 09:30 AM Central Tim
 e (US and Canada)\n\nRegister in advance for this meeting:\nhttps://us02we
 b.zoom.us/meeting/register/tZAtfu-vqjMqE9ecmkNBHPfvFt7aye63264u\n\nAfter r
 egistering\, you will receive a confirmation email containing information 
 about joining the meeting.
DTSTART;TZID=America/Chicago:20240201T093000
DTEND;TZID=America/Chicago:20240201T103000
LOCATION:
SUMMARY:The Little Snowplow Wishes: An Interactive Preschool Class
END:VEVENT
END:VCALENDAR
