BEGIN:VCALENDAR
VERSION:2.0
PRODID:-//midwestchildcare.org//NONSGML kigkonsult.se iCalcreator 2.30.10//
CALSCALE:GREGORIAN
METHOD:PUBLISH
UID:deb0dbfc-84b1-4fea-8c7f-a6c7b967681a
X-WR-CALDESC:You are invited to a Zoom meeting.\nWhen: Jan 25\, 2024 09:30 
 AM Central Time (US and Canada)\n\nRegister in advance for this meeting:\n
 https://us02web.zoom.us/meeting/register/tZUlf-qorT8vGddYlhPHX75Yita1lAq0r
 y2t\n\nAfter registering\, you will receive a confirmation email containin
 g information about joining the meeting.
X-WR-RELCALID:c5cfc31000608e286512ab35800303ef
X-WR-TIMEZONE:America/Chicago
BEGIN:VTIMEZONE
TZID:America/Chicago
BEGIN:STANDARD
TZNAME:CST
DTSTART:20231105T020000
TZOFFSETFROM:-0500
TZOFFSETTO:-0600
RDATE:20241103T020000
END:STANDARD
BEGIN:DAYLIGHT
TZNAME:CDT
DTSTART:20230312T020000
TZOFFSETFROM:-0600
TZOFFSETTO:-0500
RDATE:20240310T020000
RDATE:20250309T020000
END:DAYLIGHT
END:VTIMEZONE
BEGIN:VEVENT
UID:39b54ce0-ec33-454c-a657-b17aac207b90
DTSTAMP:20260422T032942Z
DESCRIPTION:You are invited to a Zoom meeting.\nWhen: Jan 25\, 2024 09:30 A
 M Central Time (US and Canada)\n\nRegister in advance for this meeting:\nh
 ttps://us02web.zoom.us/meeting/register/tZUlf-qorT8vGddYlhPHX75Yita1lAq0ry
 2t\n\nAfter registering\, you will receive a confirmation email containing
  information about joining the meeting.
DTSTART;TZID=America/Chicago:20240125T093000
DTEND;TZID=America/Chicago:20240125T100000
LOCATION:
SUMMARY:Sneezy the Snowman:An Interactive Preschool Class
END:VEVENT
END:VCALENDAR
