BEGIN:VCALENDAR
VERSION:2.0
PRODID:-//midwestchildcare.org//NONSGML kigkonsult.se iCalcreator 2.30.10//
CALSCALE:GREGORIAN
METHOD:PUBLISH
UID:08688ac4-46b7-4554-a0f1-3456df0d720a
X-WR-CALDESC:HSI Pediatric First Aid | CPR AED Child/Infant/Adult (2020)\n
 \nCLASS NUMBER:	31504987\nCLASS TYPE:	Classroom Training\n\nLOCATION:	\n7200 
 S 84th St\nLaVista\, NE 68128\n\nDATE/TIME:	01/18/2024\, 6:00 PM - 10:00 PM
 \nREMAINING SEATS:	99\n1/18/24 Zoom Class (6 to 10 PM) & Hands On by Appt (
 takes 30 mins)
X-WR-RELCALID:2e2f62ea163faac4528ba07ee9dd20b9
X-WR-TIMEZONE:America/Chicago
BEGIN:VTIMEZONE
TZID:America/Chicago
BEGIN:STANDARD
TZNAME:CST
DTSTART:20231105T020000
TZOFFSETFROM:-0500
TZOFFSETTO:-0600
RDATE:20241103T020000
END:STANDARD
BEGIN:DAYLIGHT
TZNAME:CDT
DTSTART:20230312T020000
TZOFFSETFROM:-0600
TZOFFSETTO:-0500
RDATE:20240310T020000
RDATE:20250309T020000
END:DAYLIGHT
END:VTIMEZONE
BEGIN:VEVENT
UID:4fd5c6d3-71cf-4425-957b-37a23f49b85a
DTSTAMP:20260422T032459Z
DESCRIPTION:HSI Pediatric First Aid | CPR AED Child/Infant/Adult (2020)\n\n
 CLASS NUMBER:	31504987\nCLASS TYPE:	Classroom Training\n\nLOCATION:	\n7200 S 
 84th St\nLaVista\, NE 68128\n\nDATE/TIME:	01/18/2024\, 6:00 PM - 10:00 PM\n
 REMAINING SEATS:	99\n1/18/24 Zoom Class (6 to 10 PM) & Hands On by Appt (ta
 kes 30 mins)
DTSTART;TZID=America/Chicago:20240118T180000
DTEND;TZID=America/Chicago:20240118T220000
LOCATION:
SUMMARY:HSI Pediatric First Aid | CPR AED Child/Infant/Adult (2020): Full C
 lass
END:VEVENT
END:VCALENDAR
