BEGIN:VCALENDAR
VERSION:2.0
PRODID:-//midwestchildcare.org//NONSGML kigkonsult.se iCalcreator 2.30.10//
CALSCALE:GREGORIAN
METHOD:PUBLISH
UID:9335b332-9263-4e82-9a6a-42d435c1f970
X-WR-CALDESC:The Gingerbread Man Loose at Christmas: An Interactive\n\nYou 
 are invited to a Zoom meeting.\nWhen: Dec 21\, 2023 09:30 AM Central Time 
 (US and Canada)\n\nRegister in advance for this meeting:\nhttps://us02web.
 zoom.us/meeting/register/tZEvcu2tqjkjH9DACAfh7dpBvTD37a_OP0hf\n\nAfter reg
 istering\, you will receive a confirmation email containing information ab
 out joining the meeting.
X-WR-RELCALID:3416c97e75df7bb3d0741c62ae58c671
X-WR-TIMEZONE:America/Chicago
BEGIN:VTIMEZONE
TZID:America/Chicago
BEGIN:STANDARD
TZNAME:CST
DTSTART:20231105T020000
TZOFFSETFROM:-0500
TZOFFSETTO:-0600
RDATE:20241103T020000
END:STANDARD
BEGIN:DAYLIGHT
TZNAME:CDT
DTSTART:20230312T020000
TZOFFSETFROM:-0600
TZOFFSETTO:-0500
RDATE:20240310T020000
RDATE:20250309T020000
END:DAYLIGHT
END:VTIMEZONE
BEGIN:VEVENT
UID:57dce859-31a5-44e5-88c8-fca686e4b2e0
DTSTAMP:20260422T050659Z
DESCRIPTION:The Gingerbread Man Loose at Christmas: An Interactive\n\nYou a
 re invited to a Zoom meeting.\nWhen: Dec 21\, 2023 09:30 AM Central Time (
 US and Canada)\n\nRegister in advance for this meeting:\nhttps://us02web.z
 oom.us/meeting/register/tZEvcu2tqjkjH9DACAfh7dpBvTD37a_OP0hf\n\nAfter regi
 stering\, you will receive a confirmation email containing information abo
 ut joining the meeting.
DTSTART;TZID=America/Chicago:20231221T093000
DTEND;TZID=America/Chicago:20231221T100000
LOCATION:
SUMMARY:The Gingerbread Man Loose at Christmas: An Interactive
END:VEVENT
END:VCALENDAR
