BEGIN:VCALENDAR
VERSION:2.0
PRODID:-//midwestchildcare.org//NONSGML kigkonsult.se iCalcreator 2.30.10//
CALSCALE:GREGORIAN
METHOD:PUBLISH
UID:545f66e6-217e-4c5e-a6e2-27fef9507bc4
X-WR-CALDESC:The Gingerbread Man Loose at Christmas: An Interactive\n\nPres
 chool Class1. You are invited to a Zoom meeting.\nWhen: Dec 21\, 2023 09:0
 0 AM Central Time (US and Canada)\n\nRegister in advance for this meeting:
 \nhttps://us02web.zoom.us/meeting/register/tZUpcemprDotGtGgAf839HhzeG4eeju
 9B2M9\n\nAfter registering\, you will receive a confirmation email contain
 ing information about joining the meeting.
X-WR-RELCALID:dae5f813f95d2cea9dcf268c418a072d
X-WR-TIMEZONE:America/Chicago
BEGIN:VTIMEZONE
TZID:America/Chicago
BEGIN:STANDARD
TZNAME:CST
DTSTART:20231105T020000
TZOFFSETFROM:-0500
TZOFFSETTO:-0600
RDATE:20241103T020000
END:STANDARD
BEGIN:DAYLIGHT
TZNAME:CDT
DTSTART:20230312T020000
TZOFFSETFROM:-0600
TZOFFSETTO:-0500
RDATE:20240310T020000
RDATE:20250309T020000
END:DAYLIGHT
END:VTIMEZONE
BEGIN:VEVENT
UID:27354ad7-b531-4103-95b3-dd4816690315
DTSTAMP:20260422T050752Z
DESCRIPTION:The Gingerbread Man Loose at Christmas: An Interactive\n\nPresc
 hool Class1. You are invited to a Zoom meeting.\nWhen: Dec 21\, 2023 09:00
  AM Central Time (US and Canada)\n\nRegister in advance for this meeting:
 \nhttps://us02web.zoom.us/meeting/register/tZUpcemprDotGtGgAf839HhzeG4eeju
 9B2M9\n\nAfter registering\, you will receive a confirmation email contain
 ing information about joining the meeting.
DTSTART;TZID=America/Chicago:20231221T090000
DTEND;TZID=America/Chicago:20231221T093000
LOCATION:
SUMMARY:The Gingerbread Man Loose at Christmas: An Interactive
END:VEVENT
END:VCALENDAR
