BEGIN:VCALENDAR
VERSION:2.0
PRODID:-//midwestchildcare.org//NONSGML kigkonsult.se iCalcreator 2.30.10//
CALSCALE:GREGORIAN
METHOD:PUBLISH
UID:e9e828e1-7a77-4d7d-b17a-748afe9cf12f
X-WR-CALDESC:Stick Man: An Interactive Preschool Class\n\nYou are invited t
 o a Zoom meeting.\nWhen: Dec 14\, 2023 10:00 AM Central Time (US and Canad
 a)\n\nRegister in advance for this meeting:\nhttps://us02web.zoom.us/meeti
 ng/register/tZUqduurpzsuHNWDKZDy4BPHpI_I3qVudmV9\n\nAfter registering\, yo
 u will receive a confirmation email containing information about joining t
 he meeting.
X-WR-RELCALID:c2cdb99354e9aac36d7f9c4e15126f1b
X-WR-TIMEZONE:America/Chicago
BEGIN:VTIMEZONE
TZID:America/Chicago
BEGIN:STANDARD
TZNAME:CST
DTSTART:20231105T020000
TZOFFSETFROM:-0500
TZOFFSETTO:-0600
RDATE:20241103T020000
END:STANDARD
BEGIN:DAYLIGHT
TZNAME:CDT
DTSTART:20230312T020000
TZOFFSETFROM:-0600
TZOFFSETTO:-0500
RDATE:20240310T020000
RDATE:20250309T020000
END:DAYLIGHT
END:VTIMEZONE
BEGIN:VEVENT
UID:1977e792-7d30-458a-88a5-760282badf0d
DTSTAMP:20260422T050429Z
DESCRIPTION:Stick Man: An Interactive Preschool Class\n\nYou are invited to
  a Zoom meeting.\nWhen: Dec 14\, 2023 10:00 AM Central Time (US and Canada
 )\n\nRegister in advance for this meeting:\nhttps://us02web.zoom.us/meetin
 g/register/tZUqduurpzsuHNWDKZDy4BPHpI_I3qVudmV9\n\nAfter registering\, you
  will receive a confirmation email containing information about joining th
 e meeting.
DTSTART;TZID=America/Chicago:20231214T100000
DTEND;TZID=America/Chicago:20231214T103000
LOCATION:
SUMMARY:Stick Man: An Interactive Preschool Class
END:VEVENT
END:VCALENDAR
