BEGIN:VCALENDAR
VERSION:2.0
PRODID:-//midwestchildcare.org//NONSGML kigkonsult.se iCalcreator 2.30.10//
CALSCALE:GREGORIAN
METHOD:PUBLISH
UID:ee9728c5-c155-43cc-b74e-78506ce6c1b4
X-WR-CALDESC:Stick Man: An Interactive Preschool Class\n\nYou are invited t
 o a Zoom meeting.\nWhen: Dec 14\, 2023 09:30 AM Central Time (US and Canad
 a)\n\nRegister in advance for this meeting:\nhttps://us02web.zoom.us/meeti
 ng/register/tZ0ocO2rpjwqGdTC1kZ0UALAQei7QVz3VHR0\n\nAfter registering\, yo
 u will receive a confirmation email containing information about joining t
 he meeting.
X-WR-RELCALID:167b123738617cec6f4fd8e178cbe774
X-WR-TIMEZONE:America/Chicago
BEGIN:VTIMEZONE
TZID:America/Chicago
BEGIN:STANDARD
TZNAME:CST
DTSTART:20231105T020000
TZOFFSETFROM:-0500
TZOFFSETTO:-0600
RDATE:20241103T020000
END:STANDARD
BEGIN:DAYLIGHT
TZNAME:CDT
DTSTART:20230312T020000
TZOFFSETFROM:-0600
TZOFFSETTO:-0500
RDATE:20240310T020000
RDATE:20250309T020000
END:DAYLIGHT
END:VTIMEZONE
BEGIN:VEVENT
UID:c12c0370-dcbe-4b17-9afe-9ebea3ca0a7b
DTSTAMP:20260422T050500Z
DESCRIPTION:Stick Man: An Interactive Preschool Class\n\nYou are invited to
  a Zoom meeting.\nWhen: Dec 14\, 2023 09:30 AM Central Time (US and Canada
 )\n\nRegister in advance for this meeting:\nhttps://us02web.zoom.us/meetin
 g/register/tZ0ocO2rpjwqGdTC1kZ0UALAQei7QVz3VHR0\n\nAfter registering\, you
  will receive a confirmation email containing information about joining th
 e meeting.
DTSTART;TZID=America/Chicago:20231214T093000
DTEND;TZID=America/Chicago:20231214T100000
LOCATION:
SUMMARY:Stick Man: An Interactive Preschool Class
END:VEVENT
END:VCALENDAR
