BEGIN:VCALENDAR
VERSION:2.0
PRODID:-//midwestchildcare.org//NONSGML kigkonsult.se iCalcreator 2.30.10//
CALSCALE:GREGORIAN
METHOD:PUBLISH
UID:26a14a12-90c7-4b99-98de-4c2c52df559f
X-WR-CALDESC:Thanks for Thanksgiving: An Interactive Preschool Class\n\nYou
  are invited to a Zoom meeting.\nWhen: Nov 16\, 2023 09:00 AM Central Time
  (US and Canada)\n\nRegister in advance for this meeting:\nhttps://us02web
 .zoom.us/meeting/register/tZEpf-uvrj8qGtU_YZ6WO0pLSyvQWpVgcEy0\n\nAfter re
 gistering\, you will receive a confirmation email containing information a
 bout joining the meeting.
X-WR-RELCALID:f0d85ca63c1b68d3599da070e328f045
X-WR-TIMEZONE:America/Chicago
BEGIN:VTIMEZONE
TZID:America/Chicago
BEGIN:STANDARD
TZNAME:CST
DTSTART:20231105T020000
TZOFFSETFROM:-0500
TZOFFSETTO:-0600
RDATE:20241103T020000
END:STANDARD
BEGIN:DAYLIGHT
TZNAME:CDT
DTSTART:20230312T020000
TZOFFSETFROM:-0600
TZOFFSETTO:-0500
RDATE:20240310T020000
RDATE:20250309T020000
END:DAYLIGHT
END:VTIMEZONE
BEGIN:VEVENT
UID:b5916516-3d3f-4d23-ba88-443f10565ded
DTSTAMP:20260422T065210Z
DESCRIPTION:Thanks for Thanksgiving: An Interactive Preschool Class\n\nYou 
 are invited to a Zoom meeting.\nWhen: Nov 16\, 2023 09:00 AM Central Time 
 (US and Canada)\n\nRegister in advance for this meeting:\nhttps://us02web.
 zoom.us/meeting/register/tZEpf-uvrj8qGtU_YZ6WO0pLSyvQWpVgcEy0\n\nAfter reg
 istering\, you will receive a confirmation email containing information ab
 out joining the meeting.
DTSTART;TZID=America/Chicago:20231116T090000
DTEND;TZID=America/Chicago:20231116T093000
LOCATION:
SUMMARY:Thanks for Thanksgiving: An Interactive Preschool Class
END:VEVENT
END:VCALENDAR
