BEGIN:VCALENDAR
VERSION:2.0
PRODID:-//midwestchildcare.org//NONSGML kigkonsult.se iCalcreator 2.30.10//
CALSCALE:GREGORIAN
METHOD:PUBLISH
UID:463069a1-ee66-4d66-a5d3-d3912c48122c
X-WR-CALDESC:Squirrels Leap\, Squirrels Sleep: An Interactive Preschool Cla
 ss\n\nYou are invited to a Zoom meeting.\nWhen: Nov 9\, 2023 10:00 AM Cent
 ral Time (US and Canada)\n\nRegister in advance for this meeting:\nhttps:/
 /us02web.zoom.us/meeting/register/tZEkcuitrTooEtU948CmkVZcdIuhjD4zqmt5\n\n
 After registering\, you will receive a confirmation email containing infor
 mation about joining the meeting.
X-WR-RELCALID:c9c2845984ca7e0f378ab956bb54067a
X-WR-TIMEZONE:America/Chicago
BEGIN:VTIMEZONE
TZID:America/Chicago
BEGIN:STANDARD
TZNAME:CST
DTSTART:20231105T020000
TZOFFSETFROM:-0500
TZOFFSETTO:-0600
RDATE:20241103T020000
END:STANDARD
BEGIN:DAYLIGHT
TZNAME:CDT
DTSTART:20230312T020000
TZOFFSETFROM:-0600
TZOFFSETTO:-0500
RDATE:20240310T020000
RDATE:20250309T020000
END:DAYLIGHT
END:VTIMEZONE
BEGIN:VEVENT
UID:7247a349-e9ef-40b0-ac84-5cdccbc17791
DTSTAMP:20260422T064520Z
DESCRIPTION:Squirrels Leap\, Squirrels Sleep: An Interactive Preschool Clas
 s\n\nYou are invited to a Zoom meeting.\nWhen: Nov 9\, 2023 10:00 AM Centr
 al Time (US and Canada)\n\nRegister in advance for this meeting:\nhttps://
 us02web.zoom.us/meeting/register/tZEkcuitrTooEtU948CmkVZcdIuhjD4zqmt5\n\nA
 fter registering\, you will receive a confirmation email containing inform
 ation about joining the meeting.
DTSTART;TZID=America/Chicago:20231109T100000
DTEND;TZID=America/Chicago:20231109T103000
LOCATION:
SUMMARY:Squirrels Leap\, Squirrels Sleep: An Interactive Preschool Classs
END:VEVENT
END:VCALENDAR
