BEGIN:VCALENDAR
VERSION:2.0
PRODID:-//midwestchildcare.org//NONSGML kigkonsult.se iCalcreator 2.30.10//
CALSCALE:GREGORIAN
METHOD:PUBLISH
UID:22c42fca-2e78-48db-8732-3781b912d601
X-WR-CALDESC:The Leaf Thief: An Interactive Preschool Class\n\nYou are invi
 ted to a Zoom meeting.\nWhen: Nov 2\, 2023 09:00 AM Central Time (US and C
 anada)\n\nRegister in advance for this meeting:\nhttps://us02web.zoom.us/m
 eeting/register/tZUtdOqorTMrGtzfAgVpRqUPTszQ6Uwnj4BD\n\nAfter registering\
 , you will receive a confirmation email containing information about joini
 ng the meeting.
X-WR-RELCALID:5fba7572aa527228ee724b2fd6fee0c0
X-WR-TIMEZONE:America/Chicago
BEGIN:VTIMEZONE
TZID:America/Chicago
BEGIN:STANDARD
TZNAME:CST
DTSTART:20221106T020000
TZOFFSETFROM:-0500
TZOFFSETTO:-0600
RDATE:20231105T020000
RDATE:20241103T020000
END:STANDARD
BEGIN:DAYLIGHT
TZNAME:CDT
DTSTART:20230312T020000
TZOFFSETFROM:-0600
TZOFFSETTO:-0500
RDATE:20240310T020000
RDATE:20250309T020000
END:DAYLIGHT
END:VTIMEZONE
BEGIN:VEVENT
UID:00f35990-cc7b-4308-b96b-c0bdfc2d4b05
DTSTAMP:20260422T064201Z
DESCRIPTION:The Leaf Thief: An Interactive Preschool Class\n\nYou are invit
 ed to a Zoom meeting.\nWhen: Nov 2\, 2023 09:00 AM Central Time (US and Ca
 nada)\n\nRegister in advance for this meeting:\nhttps://us02web.zoom.us/me
 eting/register/tZUtdOqorTMrGtzfAgVpRqUPTszQ6Uwnj4BD\n\nAfter registering\,
  you will receive a confirmation email containing information about joinin
 g the meeting.
DTSTART;TZID=America/Chicago:20231102T090000
DTEND;TZID=America/Chicago:20231102T093000
LOCATION:
SUMMARY:The Leaf Thief: An Interactive Preschool Class
END:VEVENT
END:VCALENDAR
