BEGIN:VCALENDAR
VERSION:2.0
PRODID:-//midwestchildcare.org//NONSGML kigkonsult.se iCalcreator 2.30.10//
CALSCALE:GREGORIAN
METHOD:PUBLISH
UID:5b3cf7cf-0fdf-4660-bdd8-2d036cd7980f
X-WR-CALDESC:Where's My Mummy: An Interactive Preschool Class\n\nYou are in
 vited to a Zoom meeting.\nWhen: Oct 26\, 2023 10:00 AM Central Time (US an
 d Canada)\n\nRegister in advance for this meeting:\nhttps://us02web.zoom.u
 s/meeting/register/tZcuf-uoqTspHdKP8pTNwivuaczlM7GwUxO_\n\nAfter registeri
 ng\, you will receive a confirmation email containing information about jo
 ining the meeting.
X-WR-RELCALID:f2e561dc06c10cc963d3df45f6046204
X-WR-TIMEZONE:America/Chicago
BEGIN:VTIMEZONE
TZID:America/Chicago
BEGIN:STANDARD
TZNAME:CST
DTSTART:20221106T020000
TZOFFSETFROM:-0500
TZOFFSETTO:-0600
RDATE:20231105T020000
RDATE:20241103T020000
END:STANDARD
BEGIN:DAYLIGHT
TZNAME:CDT
DTSTART:20230312T020000
TZOFFSETFROM:-0600
TZOFFSETTO:-0500
RDATE:20240310T020000
RDATE:20250309T020000
END:DAYLIGHT
END:VTIMEZONE
BEGIN:VEVENT
UID:e9357441-a3c8-4841-9cea-06b9e4dfacc0
DTSTAMP:20260422T082225Z
DESCRIPTION:Where's My Mummy: An Interactive Preschool Class\n\nYou are inv
 ited to a Zoom meeting.\nWhen: Oct 26\, 2023 10:00 AM Central Time (US and
  Canada)\n\nRegister in advance for this meeting:\nhttps://us02web.zoom.us
 /meeting/register/tZcuf-uoqTspHdKP8pTNwivuaczlM7GwUxO_\n\nAfter registerin
 g\, you will receive a confirmation email containing information about joi
 ning the meeting.
DTSTART;TZID=America/Chicago:20231026T100000
DTEND;TZID=America/Chicago:20231026T103000
LOCATION:
SUMMARY:Where's My Mummy: An Interactive Preschool Class
END:VEVENT
END:VCALENDAR
