BEGIN:VCALENDAR
VERSION:2.0
PRODID:-//midwestchildcare.org//NONSGML kigkonsult.se iCalcreator 2.30.10//
CALSCALE:GREGORIAN
METHOD:PUBLISH
UID:a49f2fa2-baa2-4dc6-b28d-4a0193b9b694
X-WR-CALDESC:HSI Pediatric First Aid | CPR AED Child/Infant/Adult (2020)\n
 \nCLASS NUMBER:	31324615\nCLASS TYPE:	Classroom Training\nDESCRIPTION:	HSI Pe
 diatric First Aid | CPR AED Child/Infant/Adult (2020)\nLOCATION:	\n7200 S 8
 4th St\nLaVista\, NE 68128\nDATE/TIME:	10/26/2023\, 6:00 PM - 10:00 PM\nREM
 AINING SEATS:	99\n*Zoom* 10/26/23 (6 to 10 PM) & Hands On Portion by Appt (
 takes 30 mins) Contact: Matthew Nagler 402-681-9559 or mattsafetytraining@
 gmail.com\n\nTo Register:\nhttps://otis.osmanager4.com/#/openEnrollment?co
 =1&cid=4004901
X-WR-RELCALID:ea4365e5607dc157b4c634ea7b1e307c
X-WR-TIMEZONE:America/Chicago
BEGIN:VTIMEZONE
TZID:America/Chicago
BEGIN:STANDARD
TZNAME:CST
DTSTART:20221106T020000
TZOFFSETFROM:-0500
TZOFFSETTO:-0600
RDATE:20231105T020000
RDATE:20241103T020000
END:STANDARD
BEGIN:DAYLIGHT
TZNAME:CDT
DTSTART:20230312T020000
TZOFFSETFROM:-0600
TZOFFSETTO:-0500
RDATE:20240310T020000
RDATE:20250309T020000
END:DAYLIGHT
END:VTIMEZONE
BEGIN:VEVENT
UID:119825ef-260e-42b0-afd5-5bc544d5a07f
DTSTAMP:20260422T082715Z
DESCRIPTION:HSI Pediatric First Aid | CPR AED Child/Infant/Adult (2020)\n\n
 CLASS NUMBER:	31324615\nCLASS TYPE:	Classroom Training\nDESCRIPTION:	HSI Pedi
 atric First Aid | CPR AED Child/Infant/Adult (2020)\nLOCATION:	\n7200 S 84t
 h St\nLaVista\, NE 68128\nDATE/TIME:	10/26/2023\, 6:00 PM - 10:00 PM\nREMAI
 NING SEATS:	99\n*Zoom* 10/26/23 (6 to 10 PM) & Hands On Portion by Appt (ta
 kes 30 mins) Contact: Matthew Nagler 402-681-9559 or mattsafetytraining@gm
 ail.com\n\nTo Register:\nhttps://otis.osmanager4.com/#/openEnrollment?co=1
 &cid=4004901
DTSTART;TZID=America/Chicago:20231026T180000
DTEND;TZID=America/Chicago:20231026T220000
LOCATION:
SUMMARY:HSI Pediatric First Aid | CPR AED Child/Infant/Adult (2020)
END:VEVENT
END:VCALENDAR
