BEGIN:VCALENDAR
VERSION:2.0
PRODID:-//midwestchildcare.org//NONSGML kigkonsult.se iCalcreator 2.30.10//
CALSCALE:GREGORIAN
METHOD:PUBLISH
UID:4ecc7461-7aba-4092-8960-0bb7f5d17fac
X-WR-CALDESC:I'm Trying to Love Spiders: An Interactive Preschool Class\n\n
 You are invited to a Zoom meeting.\nWhen: Oct 12\, 2023 10:00 AM Central T
 ime (US and Canada)\n\nRegister in advance for this meeting:\nhttps://us02
 web.zoom.us/meeting/register/tZ0tcOGoqjgvGdb-jbW0nu_R5ALBW192Ao-j\n\nAfter
  registering\, you will receive a confirmation email containing informatio
 n about joining the meeting.
X-WR-RELCALID:67ef4398e947c338db97f644bc18472e
X-WR-TIMEZONE:America/Chicago
BEGIN:VTIMEZONE
TZID:America/Chicago
BEGIN:STANDARD
TZNAME:CST
DTSTART:20221106T020000
TZOFFSETFROM:-0500
TZOFFSETTO:-0600
RDATE:20231105T020000
RDATE:20241103T020000
END:STANDARD
BEGIN:DAYLIGHT
TZNAME:CDT
DTSTART:20230312T020000
TZOFFSETFROM:-0600
TZOFFSETTO:-0500
RDATE:20240310T020000
RDATE:20250309T020000
END:DAYLIGHT
END:VTIMEZONE
BEGIN:VEVENT
UID:c1a91986-f78e-484b-a5ea-99a338df7295
DTSTAMP:20260422T082101Z
DESCRIPTION:I'm Trying to Love Spiders: An Interactive Preschool Class\n\nY
 ou are invited to a Zoom meeting.\nWhen: Oct 12\, 2023 10:00 AM Central Ti
 me (US and Canada)\n\nRegister in advance for this meeting:\nhttps://us02w
 eb.zoom.us/meeting/register/tZ0tcOGoqjgvGdb-jbW0nu_R5ALBW192Ao-j\n\nAfter 
 registering\, you will receive a confirmation email containing information
  about joining the meeting.
DTSTART;TZID=America/Chicago:20231012T100000
DTEND;TZID=America/Chicago:20231012T103000
LOCATION:
SUMMARY:I'm Trying to Love Spiders: An Interactive Preschool Class
END:VEVENT
END:VCALENDAR
