BEGIN:VCALENDAR
VERSION:2.0
PRODID:-//midwestchildcare.org//NONSGML kigkonsult.se iCalcreator 2.30.10//
CALSCALE:GREGORIAN
METHOD:PUBLISH
UID:dc6f1d75-c677-4389-84a2-6b4466597243
X-WR-CALDESC:I'm Trying to Love Spiders: An Interactive Preschool Class\n\n
 You are invited to a Zoom meeting.\nWhen: Oct 12\, 2023 09:30 AM Central T
 ime (US and Canada)\n\nRegister in advance for this meeting:\nhttps://us02
 web.zoom.us/meeting/register/tZwtc-ioqzIvH9Y3ZXyOQ37z6fA_1p8x2b2i\n\nAfter
  registering\, you will receive a confirmation email containing informatio
 n about joining the meeting.\n
X-WR-RELCALID:e8495b43773131b5c23e41fd50cd1da4
X-WR-TIMEZONE:America/Chicago
BEGIN:VTIMEZONE
TZID:America/Chicago
BEGIN:STANDARD
TZNAME:CST
DTSTART:20221106T020000
TZOFFSETFROM:-0500
TZOFFSETTO:-0600
RDATE:20231105T020000
RDATE:20241103T020000
END:STANDARD
BEGIN:DAYLIGHT
TZNAME:CDT
DTSTART:20230312T020000
TZOFFSETFROM:-0600
TZOFFSETTO:-0500
RDATE:20240310T020000
RDATE:20250309T020000
END:DAYLIGHT
END:VTIMEZONE
BEGIN:VEVENT
UID:85e38633-b0ea-447c-a084-e6488e32b0df
DTSTAMP:20260422T080346Z
DESCRIPTION:I'm Trying to Love Spiders: An Interactive Preschool Class\n\nY
 ou are invited to a Zoom meeting.\nWhen: Oct 12\, 2023 09:30 AM Central Ti
 me (US and Canada)\n\nRegister in advance for this meeting:\nhttps://us02w
 eb.zoom.us/meeting/register/tZwtc-ioqzIvH9Y3ZXyOQ37z6fA_1p8x2b2i\n\nAfter 
 registering\, you will receive a confirmation email containing information
  about joining the meeting.\n
DTSTART;TZID=America/Chicago:20231012T093000
DTEND;TZID=America/Chicago:20231012T100000
LOCATION:
SUMMARY:I'm Trying to Love Spiders: An Interactive Preschool Class
END:VEVENT
END:VCALENDAR
