BEGIN:VCALENDAR
VERSION:2.0
PRODID:-//midwestchildcare.org//NONSGML kigkonsult.se iCalcreator 2.30.10//
CALSCALE:GREGORIAN
METHOD:PUBLISH
UID:6231eb83-2565-4947-8ff3-dd11a86b7d75
X-WR-CALDESC:HSI Pediatric First Aid | CPR AED Child/Infant/Adult (2020)\n
 \nLOCATION:	\n7200 S 84th St\nLaVista\, NE 68128\nDATE/TIME:	10/12/2023\, 6:
 00 PM - 10:00 PM\nREMAINING SEATS:	98\nZoom Class 10/12 (6 to 10 PM) & Hand
 s On portion by appt (takes 20 mins) Contact: Matthew Nagler mattsafetytra
 ining@gmail.com or 402-681-9559
X-WR-RELCALID:cd69599beef6e55128b8ff440ca015f3
X-WR-TIMEZONE:America/Chicago
BEGIN:VTIMEZONE
TZID:America/Chicago
BEGIN:STANDARD
TZNAME:CST
DTSTART:20221106T020000
TZOFFSETFROM:-0500
TZOFFSETTO:-0600
RDATE:20231105T020000
RDATE:20241103T020000
END:STANDARD
BEGIN:DAYLIGHT
TZNAME:CDT
DTSTART:20230312T020000
TZOFFSETFROM:-0600
TZOFFSETTO:-0500
RDATE:20240310T020000
RDATE:20250309T020000
END:DAYLIGHT
END:VTIMEZONE
BEGIN:VEVENT
UID:d380566b-69b8-4359-8e18-98d7ddd07f9e
DTSTAMP:20260422T081131Z
DESCRIPTION:HSI Pediatric First Aid | CPR AED Child/Infant/Adult (2020)\n\n
 LOCATION:	\n7200 S 84th St\nLaVista\, NE 68128\nDATE/TIME:	10/12/2023\, 6:00
  PM - 10:00 PM\nREMAINING SEATS:	98\nZoom Class 10/12 (6 to 10 PM) & Hands 
 On portion by appt (takes 20 mins) Contact: Matthew Nagler mattsafetytrain
 ing@gmail.com or 402-681-9559
DTSTART;TZID=America/Chicago:20231012T180000
DTEND;TZID=America/Chicago:20231012T220000
LOCATION:
SUMMARY:HSI Pediatric First Aid | CPR AED Child/Infant/Adult (2020)
END:VEVENT
END:VCALENDAR
