BEGIN:VCALENDAR
VERSION:2.0
PRODID:-//midwestchildcare.org//NONSGML kigkonsult.se iCalcreator 2.30.10//
CALSCALE:GREGORIAN
METHOD:PUBLISH
UID:e059aaa7-ad74-4b72-b0c7-a5067c9bff31
X-WR-CALDESC:Mine! An Interactive Preschool Class\n\nYou are invited to a Z
 oom meeting.\nWhen: Sept 28\, 2023 10:00 AM Central Time (US and Canada)\n
 \nRegister in advance for this meeting:\nhttps://us02web.zoom.us/meeting/r
 egister/tZEsdeysqD8iE9bDScWSvpUAaC3Yc0EiyEsk\n\nAfter registering\, you wi
 ll receive a confirmation email containing information about joining the m
 eeting.
X-WR-RELCALID:fae582e0ad274b852a1a32e5b876b81f
X-WR-TIMEZONE:America/Chicago
BEGIN:VTIMEZONE
TZID:America/Chicago
BEGIN:STANDARD
TZNAME:CST
DTSTART:20221106T020000
TZOFFSETFROM:-0500
TZOFFSETTO:-0600
RDATE:20231105T020000
RDATE:20241103T020000
END:STANDARD
BEGIN:DAYLIGHT
TZNAME:CDT
DTSTART:20230312T020000
TZOFFSETFROM:-0600
TZOFFSETTO:-0500
RDATE:20240310T020000
RDATE:20250309T020000
END:DAYLIGHT
END:VTIMEZONE
BEGIN:VEVENT
UID:cd4d20a9-8855-4353-be93-ef952537028c
DTSTAMP:20260422T101733Z
DESCRIPTION:Mine! An Interactive Preschool Class\n\nYou are invited to a Zo
 om meeting.\nWhen: Sept 28\, 2023 10:00 AM Central Time (US and Canada)\n
 \nRegister in advance for this meeting:\nhttps://us02web.zoom.us/meeting/r
 egister/tZEsdeysqD8iE9bDScWSvpUAaC3Yc0EiyEsk\n\nAfter registering\, you wi
 ll receive a confirmation email containing information about joining the m
 eeting.
DTSTART;TZID=America/Chicago:20230928T100000
DTEND;TZID=America/Chicago:20230928T103000
LOCATION:
SUMMARY:Mine! An Interactive Preschool Class
END:VEVENT
END:VCALENDAR
