BEGIN:VCALENDAR
VERSION:2.0
PRODID:-//midwestchildcare.org//NONSGML kigkonsult.se iCalcreator 2.30.10//
CALSCALE:GREGORIAN
METHOD:PUBLISH
UID:f1248ce4-0057-4a22-806a-0f308c14d296
X-WR-CALDESC:Mine! An Interactive Preschool Class\n\nYou are invited to a Z
 oom meeting.\nWhen: Sept 28\, 2023 09:30 AM Central Time (US and Canada)\n
 \nRegister in advance for this meeting:\nhttps://us02web.zoom.us/meeting/r
 egister/tZMlf-uhrjIvGNwfvgD2MSPtGOWazRbb1TS7\n\nAfter registering\, you wi
 ll receive a confirmation email containing information about joining the m
 eeting.
X-WR-RELCALID:02089fdbb38771c081444bb615125189
X-WR-TIMEZONE:America/Chicago
BEGIN:VTIMEZONE
TZID:America/Chicago
BEGIN:STANDARD
TZNAME:CST
DTSTART:20221106T020000
TZOFFSETFROM:-0500
TZOFFSETTO:-0600
RDATE:20231105T020000
RDATE:20241103T020000
END:STANDARD
BEGIN:DAYLIGHT
TZNAME:CDT
DTSTART:20230312T020000
TZOFFSETFROM:-0600
TZOFFSETTO:-0500
RDATE:20240310T020000
RDATE:20250309T020000
END:DAYLIGHT
END:VTIMEZONE
BEGIN:VEVENT
UID:9b9d161a-c426-4256-b683-17c3c621d2c9
DTSTAMP:20260422T101753Z
DESCRIPTION:Mine! An Interactive Preschool Class\n\nYou are invited to a Zo
 om meeting.\nWhen: Sept 28\, 2023 09:30 AM Central Time (US and Canada)\n
 \nRegister in advance for this meeting:\nhttps://us02web.zoom.us/meeting/r
 egister/tZMlf-uhrjIvGNwfvgD2MSPtGOWazRbb1TS7\n\nAfter registering\, you wi
 ll receive a confirmation email containing information about joining the m
 eeting.
DTSTART;TZID=America/Chicago:20230928T093000
DTEND;TZID=America/Chicago:20230928T100000
LOCATION:
SUMMARY:Mine! An Interactive Preschool Class
END:VEVENT
END:VCALENDAR
