BEGIN:VCALENDAR
VERSION:2.0
PRODID:-//midwestchildcare.org//NONSGML kigkonsult.se iCalcreator 2.30.10//
CALSCALE:GREGORIAN
METHOD:PUBLISH
UID:43131743-2695-441e-98e2-9f82e5fb6a98
X-WR-CALDESC:Play This Book: An Interactive Preschool Class\n\nYou are invi
 ted to a Zoom meeting.\nWhen: Sep 21\, 2023 09:30 AM Central Time (US and 
 Canada)\n\nRegister in advance for this meeting:\nhttps://us02web.zoom.us/
 meeting/register/tZMpdeqsqDouGd2pwQye84-exxMnuTRUyWD7\n\nAfter registering
 \, you will receive a confirmation email containing information about join
 ing the meeting.
X-WR-RELCALID:3e2d1164e324fb60d5519fee1eb8a85d
X-WR-TIMEZONE:America/Chicago
BEGIN:VTIMEZONE
TZID:America/Chicago
BEGIN:STANDARD
TZNAME:CST
DTSTART:20221106T020000
TZOFFSETFROM:-0500
TZOFFSETTO:-0600
RDATE:20231105T020000
RDATE:20241103T020000
END:STANDARD
BEGIN:DAYLIGHT
TZNAME:CDT
DTSTART:20230312T020000
TZOFFSETFROM:-0600
TZOFFSETTO:-0500
RDATE:20240310T020000
RDATE:20250309T020000
END:DAYLIGHT
END:VTIMEZONE
BEGIN:VEVENT
UID:97bf9b26-cc11-42b7-832e-4b62086c0f4e
DTSTAMP:20260422T102047Z
DESCRIPTION:Play This Book: An Interactive Preschool Class\n\nYou are invit
 ed to a Zoom meeting.\nWhen: Sep 21\, 2023 09:30 AM Central Time (US and C
 anada)\n\nRegister in advance for this meeting:\nhttps://us02web.zoom.us/m
 eeting/register/tZMpdeqsqDouGd2pwQye84-exxMnuTRUyWD7\n\nAfter registering\
 , you will receive a confirmation email containing information about joini
 ng the meeting.
DTSTART;TZID=America/Chicago:20230921T093000
DTEND;TZID=America/Chicago:20230921T100000
LOCATION:
SUMMARY:Play This Book: An Interactive Preschool Class
END:VEVENT
END:VCALENDAR
