BEGIN:VCALENDAR
VERSION:2.0
PRODID:-//midwestchildcare.org//NONSGML kigkonsult.se iCalcreator 2.30.10//
CALSCALE:GREGORIAN
METHOD:PUBLISH
UID:f62a1fb7-4c60-45ec-828e-df4482705d92
X-WR-CALDESC:HSI Pediatric First Aid | CPR AED Child/Infant/Adult (2020) **
 Renewal In Person Class**\n\nLOCATION:	\n7200 S 84th St\nLaVista\, NE 68128
 \nDATE/TIME:	09/21/2023\, 6:00 PM - 8:30 PM\n\n**Renewal In Person Class** 
 Current Cert/30 days or less expired: Contact: Matthew Nagler 402-681-9559
  or mattsafetytraining@gmail.com
X-WR-RELCALID:7517f403d0c154ea56b24d8e17755804
X-WR-TIMEZONE:America/Chicago
BEGIN:VTIMEZONE
TZID:America/Chicago
BEGIN:STANDARD
TZNAME:CST
DTSTART:20221106T020000
TZOFFSETFROM:-0500
TZOFFSETTO:-0600
RDATE:20231105T020000
RDATE:20241103T020000
END:STANDARD
BEGIN:DAYLIGHT
TZNAME:CDT
DTSTART:20230312T020000
TZOFFSETFROM:-0600
TZOFFSETTO:-0500
RDATE:20240310T020000
RDATE:20250309T020000
END:DAYLIGHT
END:VTIMEZONE
BEGIN:VEVENT
UID:07c0c5f1-d399-406a-9c52-7db103a00681
DTSTAMP:20260422T100425Z
DESCRIPTION:HSI Pediatric First Aid | CPR AED Child/Infant/Adult (2020) **R
 enewal In Person Class**\n\nLOCATION:	\n7200 S 84th St\nLaVista\, NE 68128
 \nDATE/TIME:	09/21/2023\, 6:00 PM - 8:30 PM\n\n**Renewal In Person Class** 
 Current Cert/30 days or less expired: Contact: Matthew Nagler 402-681-9559
  or mattsafetytraining@gmail.com
DTSTART;TZID=America/Chicago:20230921T180000
DTEND;TZID=America/Chicago:20230921T203000
LOCATION:7200 S 84th St\, LaVista\, NE 68128 US
SUMMARY:HSI Pediatric First Aid | CPR AED Child/Infant/Adult (2020) **Renew
 al
END:VEVENT
END:VCALENDAR
