BEGIN:VCALENDAR
VERSION:2.0
PRODID:-//midwestchildcare.org//NONSGML kigkonsult.se iCalcreator 2.30.10//
CALSCALE:GREGORIAN
METHOD:PUBLISH
UID:b8b64d32-2670-45cd-9863-9219492ce592
X-WR-CALDESC:4-HOUR\, IN-PERSON CLASSES AT MIDWEST CHILDCARE\nPlease regist
 er for Teaching Kids to Use their Senses to Promote Healthy Lifestyles: IN
 -PERSON 4-HOUR CLASS on Sep 16\, 2023 9:00 AM CDT at:\n\nhttps://attendee.
 gotowebinar.com/register/9075193486130738774\n\nAfter registering\, you wi
 ll receive a confirmation email containing information about joining the w
 ebinar.
X-WR-RELCALID:c47e2727b1597f949a4147dab981eef3
X-WR-TIMEZONE:America/Chicago
BEGIN:VTIMEZONE
TZID:America/Chicago
BEGIN:STANDARD
TZNAME:CST
DTSTART:20221106T020000
TZOFFSETFROM:-0500
TZOFFSETTO:-0600
RDATE:20231105T020000
RDATE:20241103T020000
END:STANDARD
BEGIN:DAYLIGHT
TZNAME:CDT
DTSTART:20230312T020000
TZOFFSETFROM:-0600
TZOFFSETTO:-0500
RDATE:20240310T020000
RDATE:20250309T020000
END:DAYLIGHT
END:VTIMEZONE
BEGIN:VEVENT
UID:fde6efff-c9ff-4a98-bba6-86207fcdbc57
DTSTAMP:20260422T100107Z
DESCRIPTION:4-HOUR\, IN-PERSON CLASSES AT MIDWEST CHILDCARE\nPlease registe
 r for Teaching Kids to Use their Senses to Promote Healthy Lifestyles: IN-
 PERSON 4-HOUR CLASS on Sep 16\, 2023 9:00 AM CDT at:\n\nhttps://attendee.g
 otowebinar.com/register/9075193486130738774\n\nAfter registering\, you wil
 l receive a confirmation email containing information about joining the we
 binar.
DTSTART;TZID=America/Chicago:20230916T090000
DTEND;TZID=America/Chicago:20230916T130000
LOCATION:7701 Pacific Street\, Omaha\, NE 68114 US
SUMMARY:Teaching Kids to Use their Senses to Promote Healthy Lifestyles | I
 n-Person Class
END:VEVENT
END:VCALENDAR
