BEGIN:VCALENDAR
VERSION:2.0
PRODID:-//midwestchildcare.org//NONSGML kigkonsult.se iCalcreator 2.30.10//
CALSCALE:GREGORIAN
METHOD:PUBLISH
UID:86e5aa81-731f-4548-b528-f823a14314f4
X-WR-CALDESC:Tap the Magic Tree: An Interactive Preschool Class\n\nYou are 
 invited to a Zoom meeting. \nWhen: Sep 14\, 2023 10:00 AM Central Time (US
  and Canada) \n\nRegister in advance for this meeting:\nhttps://us02web.zo
 om.us/meeting/register/tZMrd--rqD8jH9QlUv03S2FrNSdVg-1I8jFX\n\nAfter regis
 tering\, you will receive a confirmation email containing information abou
 t joining the meeting.
X-WR-RELCALID:26a2fd115ad95b525c8ef8f898caec8c
X-WR-TIMEZONE:America/Chicago
BEGIN:VTIMEZONE
TZID:America/Chicago
BEGIN:STANDARD
TZNAME:CST
DTSTART:20221106T020000
TZOFFSETFROM:-0500
TZOFFSETTO:-0600
RDATE:20231105T020000
RDATE:20241103T020000
END:STANDARD
BEGIN:DAYLIGHT
TZNAME:CDT
DTSTART:20230312T020000
TZOFFSETFROM:-0600
TZOFFSETTO:-0500
RDATE:20240310T020000
RDATE:20250309T020000
END:DAYLIGHT
END:VTIMEZONE
BEGIN:VEVENT
UID:3c538c44-22be-4b01-8a42-bfafc266daa5
DTSTAMP:20260422T101251Z
DESCRIPTION:Tap the Magic Tree: An Interactive Preschool Class\n\nYou are i
 nvited to a Zoom meeting. \nWhen: Sep 14\, 2023 10:00 AM Central Time (US 
 and Canada) \n\nRegister in advance for this meeting:\nhttps://us02web.zoo
 m.us/meeting/register/tZMrd--rqD8jH9QlUv03S2FrNSdVg-1I8jFX\n\nAfter regist
 ering\, you will receive a confirmation email containing information about
  joining the meeting.
DTSTART;TZID=America/Chicago:20230914T093000
DTEND;TZID=America/Chicago:20230914T100000
LOCATION:
SUMMARY:Tap the Magic Tree: An Interactive Preschool Class
END:VEVENT
END:VCALENDAR
