BEGIN:VCALENDAR
VERSION:2.0
PRODID:-//midwestchildcare.org//NONSGML kigkonsult.se iCalcreator 2.30.10//
CALSCALE:GREGORIAN
METHOD:PUBLISH
UID:ed6648e2-9af4-4509-a7b2-939e5da74986
X-WR-CALDESC:Tap the Magic Tree: An Interactive Preschool Class\n\nYou are 
 invited to a Zoom meeting. \nWhen: Sep 14\, 2023 09:00 AM Central Time (US
  and Canada) \n\nRegister in advance for this meeting:\nhttps://us02web.zo
 om.us/meeting/register/tZUqfuupqTgvG9DDlbOGc618yxka7e8tnZwb\n\nAfter regis
 tering\, you will receive a confirmation email containing information abou
 t joining the meeting.
X-WR-RELCALID:93f5d116706a1604e27630892e30fad5
X-WR-TIMEZONE:America/Chicago
BEGIN:VTIMEZONE
TZID:America/Chicago
BEGIN:STANDARD
TZNAME:CST
DTSTART:20221106T020000
TZOFFSETFROM:-0500
TZOFFSETTO:-0600
RDATE:20231105T020000
RDATE:20241103T020000
END:STANDARD
BEGIN:DAYLIGHT
TZNAME:CDT
DTSTART:20230312T020000
TZOFFSETFROM:-0600
TZOFFSETTO:-0500
RDATE:20240310T020000
RDATE:20250309T020000
END:DAYLIGHT
END:VTIMEZONE
BEGIN:VEVENT
UID:1be1f82b-6c44-432c-b87e-4b0754a5f045
DTSTAMP:20260422T102047Z
DESCRIPTION:Tap the Magic Tree: An Interactive Preschool Class\n\nYou are i
 nvited to a Zoom meeting. \nWhen: Sep 14\, 2023 09:00 AM Central Time (US 
 and Canada) \n\nRegister in advance for this meeting:\nhttps://us02web.zoo
 m.us/meeting/register/tZUqfuupqTgvG9DDlbOGc618yxka7e8tnZwb\n\nAfter regist
 ering\, you will receive a confirmation email containing information about
  joining the meeting.
DTSTART;TZID=America/Chicago:20230914T090000
DTEND;TZID=America/Chicago:20230914T093000
LOCATION:
SUMMARY:Tap the Magic Tree: An Interactive Preschool Class
END:VEVENT
END:VCALENDAR
