BEGIN:VCALENDAR
VERSION:2.0
PRODID:-//midwestchildcare.org//NONSGML kigkonsult.se iCalcreator 2.30.10//
CALSCALE:GREGORIAN
METHOD:PUBLISH
UID:cb955025-25f3-4354-999d-018add1d844c
X-WR-CALDESC:Llama\, Llama Misses Mama: In Interactive Preschool Class\n\nY
 ou are invited to a Zoom meeting. \nWhen: Sep 7\, 2023 09:30 AM Central Ti
 me (US and Canada) \n\nRegister in advance for this meeting:\nhttps://us02
 web.zoom.us/meeting/register/tZ0kdOmprTIsHNdfi9AwBIs6pUxqez_QMgxa\n\nAfter
  registering\, you will receive a confirmation email containing informatio
 n about joining the meeting.
X-WR-RELCALID:0169428cdaa5498dae089cc4361b0e0a
X-WR-TIMEZONE:America/Chicago
BEGIN:VTIMEZONE
TZID:America/Chicago
BEGIN:STANDARD
TZNAME:CST
DTSTART:20221106T020000
TZOFFSETFROM:-0500
TZOFFSETTO:-0600
RDATE:20231105T020000
RDATE:20241103T020000
END:STANDARD
BEGIN:DAYLIGHT
TZNAME:CDT
DTSTART:20230312T020000
TZOFFSETFROM:-0600
TZOFFSETTO:-0500
RDATE:20240310T020000
END:DAYLIGHT
END:VTIMEZONE
BEGIN:VEVENT
UID:923343c3-d73c-4b74-aba7-b31e7aee0d1a
DTSTAMP:20260422T101732Z
DESCRIPTION:Llama\, Llama Misses Mama: In Interactive Preschool Class\n\nYo
 u are invited to a Zoom meeting. \nWhen: Sep 7\, 2023 09:30 AM Central Tim
 e (US and Canada) \n\nRegister in advance for this meeting:\nhttps://us02w
 eb.zoom.us/meeting/register/tZ0kdOmprTIsHNdfi9AwBIs6pUxqez_QMgxa\n\nAfter 
 registering\, you will receive a confirmation email containing information
  about joining the meeting.
DTSTART;TZID=America/Chicago:20230907T093000
DTEND;TZID=America/Chicago:20230907T100000
LOCATION:
SUMMARY:Llama\, Llama Misses Mama: In Interactive Preschool Class
END:VEVENT
END:VCALENDAR
