BEGIN:VCALENDAR
VERSION:2.0
PRODID:-//midwestchildcare.org//NONSGML kigkonsult.se iCalcreator 2.30.10//
CALSCALE:GREGORIAN
METHOD:PUBLISH
UID:02cf65ef-911c-466b-bdd1-9889009e4f9c
X-WR-CALDESC:Llama\, Llama Misses Mama: In Interactive Preschool Class\n\nY
 ou are invited to a Zoom meeting. \nWhen: Sep 7\, 2023 09:00 AM Central Ti
 me (US and Canada) \n\nRegister in advance for this meeting:\nhttps://us02
 web.zoom.us/meeting/register/tZMrcuGurDMrHNF5DYwm0qe1illmkLuU8VfK\n\nAfter
  registering\, you will receive a confirmation email containing informatio
 n about joining the meeting.
X-WR-RELCALID:a15b24870c0ec220c147af1589fe334e
X-WR-TIMEZONE:America/Chicago
BEGIN:VTIMEZONE
TZID:America/Chicago
BEGIN:STANDARD
TZNAME:CST
DTSTART:20221106T020000
TZOFFSETFROM:-0500
TZOFFSETTO:-0600
RDATE:20231105T020000
RDATE:20241103T020000
END:STANDARD
BEGIN:DAYLIGHT
TZNAME:CDT
DTSTART:20230312T020000
TZOFFSETFROM:-0600
TZOFFSETTO:-0500
RDATE:20240310T020000
END:DAYLIGHT
END:VTIMEZONE
BEGIN:VEVENT
UID:3a181c0d-b93c-4797-8f03-9881b4bb6349
DTSTAMP:20260422T101635Z
DESCRIPTION:Llama\, Llama Misses Mama: In Interactive Preschool Class\n\nYo
 u are invited to a Zoom meeting. \nWhen: Sep 7\, 2023 09:00 AM Central Tim
 e (US and Canada) \n\nRegister in advance for this meeting:\nhttps://us02w
 eb.zoom.us/meeting/register/tZMrcuGurDMrHNF5DYwm0qe1illmkLuU8VfK\n\nAfter 
 registering\, you will receive a confirmation email containing information
  about joining the meeting.
DTSTART;TZID=America/Chicago:20230907T090000
DTEND;TZID=America/Chicago:20230907T093000
LOCATION:
SUMMARY:Llama\, Llama Misses Mama: In Interactive Preschool Class
END:VEVENT
END:VCALENDAR
