BEGIN:VCALENDAR
VERSION:2.0
PRODID:-//midwestchildcare.org//NONSGML kigkonsult.se iCalcreator 2.30.10//
CALSCALE:GREGORIAN
METHOD:PUBLISH
UID:4c8eb743-8d89-404e-86cc-6a5634be6259
X-WR-CALDESC:HSI Pediatric First Aid | CPR AED Child/Infant/Adult (2020)\n
 \nLOCATION:	\n7200 S 84th St\nLaVista\, NE 68128\n\nDATE/TIME:	09/07/2023\, 
 6:00 PM - 10:00 PM\n\nIn-Person Class: Contact: Matthew Nagler 402-681-955
 9 or mattsafetytraining@gmail.com
X-WR-RELCALID:1249a10a0e292f3f2382723e5f5889ce
X-WR-TIMEZONE:America/Chicago
BEGIN:VTIMEZONE
TZID:America/Chicago
BEGIN:STANDARD
TZNAME:CST
DTSTART:20221106T020000
TZOFFSETFROM:-0500
TZOFFSETTO:-0600
RDATE:20231105T020000
RDATE:20241103T020000
END:STANDARD
BEGIN:DAYLIGHT
TZNAME:CDT
DTSTART:20230312T020000
TZOFFSETFROM:-0600
TZOFFSETTO:-0500
RDATE:20240310T020000
END:DAYLIGHT
END:VTIMEZONE
BEGIN:VEVENT
UID:68804961-6f5b-45b8-bf5e-078f2d81b90d
DTSTAMP:20260422T102133Z
DESCRIPTION:HSI Pediatric First Aid | CPR AED Child/Infant/Adult (2020)\n\n
 LOCATION:	\n7200 S 84th St\nLaVista\, NE 68128\n\nDATE/TIME:	09/07/2023\, 6:
 00 PM - 10:00 PM\n\nIn-Person Class: Contact: Matthew Nagler 402-681-9559 
 or mattsafetytraining@gmail.com
DTSTART;TZID=America/Chicago:20230907T180000
DTEND;TZID=America/Chicago:20230907T220000
LOCATION:7200 S 84th St\, LaVista\, NE 68127 US
SUMMARY:HSI Pediatric First Aid | CPR AED Child/Infant/Adult (2020)
END:VEVENT
END:VCALENDAR
